BEGIN:VCALENDAR
VERSION:2.0
PRODID:-//Ultra Scientific Italia - ECPv6.10.3//NONSGML v1.0//EN
CALSCALE:GREGORIAN
METHOD:PUBLISH
X-WR-CALNAME:Ultra Scientific Italia
X-ORIGINAL-URL:https://www.ultrasci.it
X-WR-CALDESC:Eventi per Ultra Scientific Italia
REFRESH-INTERVAL;VALUE=DURATION:PT1H
X-Robots-Tag:noindex
X-PUBLISHED-TTL:PT1H
BEGIN:VTIMEZONE
TZID:Europe/Rome
BEGIN:DAYLIGHT
TZOFFSETFROM:+0100
TZOFFSETTO:+0200
TZNAME:CEST
DTSTART:20210328T010000
END:DAYLIGHT
BEGIN:STANDARD
TZOFFSETFROM:+0200
TZOFFSETTO:+0100
TZNAME:CET
DTSTART:20211031T010000
END:STANDARD
END:VTIMEZONE
BEGIN:VEVENT
DTSTART;TZID=Europe/Rome:20210315T143000
DTEND;TZID=Europe/Rome:20210315T183000
DTSTAMP:20260423T210213
CREATED:20210111T163434Z
LAST-MODIFIED:20210111T164113Z
UID:3451-1615818600-1615833000@www.ultrasci.it
SUMMARY:Corso di Formazione - Analisi dell’amianto: microscopia ottica in contrasto di fase\, in dispersione cromatica e spettroscopia infrarosso in trasformata di Fourier FTIR - Parte 2
DESCRIPTION:Presentazione:\nIl corso approfondirà diverse tecniche analitiche da utilizzare per l’analisi dell’amianto. \nSi intende fornire uno strumento utile per eseguire determinazioni analitiche a chi opera nei laboratori di analisi per i quali la formazione è uno dei prerequisiti fondamentali richiesti dal DM14/5/96. \nLa conoscenza dei principi di funzionamento delle diverse metodiche analitiche e dei loro campi di applicazione costituisce il fondamento indispensabile per valutare correttamente il rischio connesso all’amianto. \nIl corso è diviso in due giornate\, frequentabili singolarmente. \nProgramma:\nGiornata 1 – 15 Febbraio: \nQuadro legislativo di riferimento \n\nBasi teoriche Microscopia Ottica in Contrasto di fase e Dispersione Cromatica\nDeterminazione qualitativa e quantitativa in MOCF\nCampi di applicazione\nGestione degli strumenti\n\nGiornata 2 – 15 Marzo: \nQuadro legislativo di riferimento \n\nBasi teoriche di  Spettroscopia infrarosso in trasformata di Fourier FT-IR\nDeterminazione qualitativa e quantitativa in FTIR\nCampi di applicazione\nGestione degli strumenti\n\n  \nIl corso si svolgerà in FAD (Formazione A Distanza) tramite la piattaforma GoToMeeting. \nE’ richiesta la disponibilità di un computer con telecamera\, che deve essere mantenuta accesa durante tutta la durata del corso\, microfono e una connessione dati stabile. \nAll’atto della conferma di iscrizione verranno forniti i dettagli per raggiungere la piattaforma del corso. \nLe diapositive verranno inviate in formato PDF. Non è consentita la registrazione audio e video del corso. \nIl corso avrà inizio alle ore 14\,30 fino alle 18\,30 con una pausa di 20 minuti dove ognuno potrà prepararsi un buon caffè. \n  \nRelatore: Dr. Pierino Di Pietro \n  \nQuota d’Iscrizione:\nE’ possibile partecipare ad una sola delle due giornate: \n\n15 Febbraio – € 190 a partecipante + IVA\n15 Marzo – € 190 a partecipante + IVA\n15 Febbraio e 15 Marzo – € 290 a partecipante + IVA\n\n  \nCorso: AMI 1\n \nCliccare per scaricare la scheda di iscrizione
URL:https://www.ultrasci.it/corso/corso-di-formazione-analisi-dell-amianto-parte-2-2021/
CATEGORIES:Metodi Analitici
ATTACH;FMTTYPE=image/png:https://www.ultrasci.it/wp-content/uploads/2021/01/Corso-15-02-2021-PAG.png
END:VEVENT
END:VCALENDAR