BEGIN:VCALENDAR
VERSION:2.0
PRODID:-//Ultra Scientific Italia - ECPv6.10.3//NONSGML v1.0//EN
CALSCALE:GREGORIAN
METHOD:PUBLISH
X-ORIGINAL-URL:https://www.ultrasci.it
X-WR-CALDESC:Eventi per Ultra Scientific Italia
REFRESH-INTERVAL;VALUE=DURATION:PT1H
X-Robots-Tag:noindex
X-PUBLISHED-TTL:PT1H
BEGIN:VTIMEZONE
TZID:Europe/Rome
BEGIN:DAYLIGHT
TZOFFSETFROM:+0100
TZOFFSETTO:+0200
TZNAME:CEST
DTSTART:20210328T010000
END:DAYLIGHT
BEGIN:STANDARD
TZOFFSETFROM:+0200
TZOFFSETTO:+0100
TZNAME:CET
DTSTART:20211031T010000
END:STANDARD
END:VTIMEZONE
BEGIN:VEVENT
DTSTART;TZID=Europe/Rome:20210512T143000
DTEND;TZID=Europe/Rome:20210512T183000
DTSTAMP:20260422T193946
CREATED:20210308T163538Z
LAST-MODIFIED:20210426T142257Z
UID:3498-1620829800-1620844200@www.ultrasci.it
SUMMARY:Corso di Formazione - Analisi del rischio secondo la UNI CEI EN ISO/IEC 17025:2018 nei laboratori di prova. Quale approccio operativo?
DESCRIPTION:Presentazione:\nIl corso ha lo scopo di introdurre varie tecniche operative di analisi del rischio in conformità alla UNI CEI EN ISO/IEC 17025:2018 per i laboratori di prova. \nPartendo da casi reali\, saranno affrontate le seguenti applicazioni pratiche della gestione del rischio: mancata imparzialità\, assicurazione validità dei dati e metodi di prova\, non conformità\, regole decisionali e dichiarazioni di conformità. \nRischio/opportunità: un binomio da considerare? \n  \nProgramma:\nGli argomenti che verranno trattati nel corso di formazione saranno i seguenti: \n\nStruttura UNI CEI EN ISO/IEC 17025:2018 (RT-08 Rev.04 Accredia) e paragrafi correlati alla gestione del rischio;\nAnalisi delle diverse tecniche di gestione del rischio;\nFocus su applicazioni pratiche\, elementi di complessità da evitare;\nRischi ed opportunità\, come capitalizzare?\nApplicazioni ed esempi pratici.\n\n  \nIl corso si svolgerà in FAD (Formazione A Distanza) tramite la piattaforma GoToMeeting. \nE’ richiesta la disponibilità di un computer con telecamera\, che deve essere mantenuta accesa durante tutta la durata del corso\, microfono e una connessione dati stabile. \nAll’atto della conferma di iscrizione verranno forniti i dettagli per raggiungere la piattaforma del corso. \nLe diapositive verranno inviate in formato PDF. Non è consentita la registrazione audio e video del corso. \n  \nIl corso si svolgerà in 2 pomeriggi il 12 e 13 Maggio\n\nLe sessioni avranno inizio alle ore 14\,30 fino alle 18\,30 con una pausa di 20 minuti dove ognuno potrà prepararsi un buon caffè. \n  \nRelatore: Dr. Denis Brazzo\n \n  \nCorso: GEST 4\n \nCliccare per scaricare la scheda di iscrizione
URL:https://www.ultrasci.it/corso/corso-di-formazione-analisi-del-rischio-secondo-la-uni-cei-en-iso-iec-170252018-2021/
CATEGORIES:Qualità del Dato
ATTACH;FMTTYPE=image/png:https://www.ultrasci.it/wp-content/uploads/2021/04/Corso-12-13-05-21-PAG.png
END:VEVENT
END:VCALENDAR