BEGIN:VCALENDAR
VERSION:2.0
PRODID:-//Ultra Scientific Italia - ECPv6.10.3//NONSGML v1.0//EN
CALSCALE:GREGORIAN
METHOD:PUBLISH
X-ORIGINAL-URL:https://www.ultrasci.it
X-WR-CALDESC:Eventi per Ultra Scientific Italia
REFRESH-INTERVAL;VALUE=DURATION:PT1H
X-Robots-Tag:noindex
X-PUBLISHED-TTL:PT1H
BEGIN:VTIMEZONE
TZID:Europe/Rome
BEGIN:DAYLIGHT
TZOFFSETFROM:+0100
TZOFFSETTO:+0200
TZNAME:CEST
DTSTART:20220327T010000
END:DAYLIGHT
BEGIN:STANDARD
TZOFFSETFROM:+0200
TZOFFSETTO:+0100
TZNAME:CET
DTSTART:20221030T010000
END:STANDARD
END:VTIMEZONE
BEGIN:VEVENT
DTSTART;TZID=Europe/Rome:20221006T093000
DTEND;TZID=Europe/Rome:20221006T133000
DTSTAMP:20260423T130413
CREATED:20220719T161706Z
LAST-MODIFIED:20220720T142046Z
UID:9380-1665048600-1665063000@www.ultrasci.it
SUMMARY:Corso di Formazione - La gestione delle apparecchiature nei laboratori di prova ai sensi della norma UNI CEI EN ISO/IEC 17025:2018
DESCRIPTION:Presentazione:\nIl corso tratta\, con riferimento alla norma UNI CEI EN ISO/IEC 17025:2018\, le attività di gestione delle principali apparecchiature utilizzate nei laboratori per le prove chimiche e microbiologiche: conferma metrologica\, manutenzione\, taratura e controllo intermedio della taratura. \nL’obiettivo del corso è quello di fornire le istruzioni\, basate su linee guida o norme tecniche vigenti\, per la gestione delle apparecchiature costituite da: \n\nMercoledì 6 Ottobre: misuratori di temperatura\, frigoriferi\, incubatori\, stufe.\nGiovedì 7 Ottobre: bilance analitiche e tecniche e micropipette.\n\nÈ possibile partecipare anche solo ad una delle due giornate proposte. \nProgramma Mercoledì 6 Ottobre:\n\nRequisiti della norma UNI CEI EN ISO/IEC 17025:2018 per la gestione delle apparecchiature\nManutenzione ai sensi delle norme UNI EN 13306:2003 e UNI 10147:2003 per apparecchiature a temperatura controllata\nRequisiti per i processi e le apparecchiature di misurazione ai sensi della norma UNI EN ISO 10012:2004\nTaratura e controllo intermedio della taratura\nEsempi pratici di taratura di misuratori di temperatura\nCaratterizzazione di apparecchiature a temperatura controllata (incubatori\, stufe e frigoriferi)\n\n  \nIl corso si svolgerà in FAD (Formazione A Distanza) tramite la piattaforma GoToMeeting. \nE’ richiesta la disponibilità di un computer con telecamera\, che deve essere mantenuta accesa durante tutta la durata del corso\, microfono e una connessione dati stabile. \nAll’atto della conferma di iscrizione verranno forniti i dettagli per raggiungere la piattaforma del corso. \nLe diapositive verranno inviate in formato PDF. Non è consentita la registrazione audio e video del corso. \nIl corso avrà inizio alle ore 9\,30 fino alle 13\,30 con una pausa di 20 minuti dove ognuno potrà prepararsi un buon caffè. \n  \nRelatrice: Dr.ssa Maria Letizia Davì \n  \n  \n  \nCorso: TAR 1\n \nCliccare per scaricare la scheda di iscrizione
URL:https://www.ultrasci.it/corso/corso-di-formazione-la-gestione-delle-apparecchiature-nei-laboratori-di-prova-2022-parte-1/
CATEGORIES:Qualità del Dato
ATTACH;FMTTYPE=image/png:https://www.ultrasci.it/wp-content/uploads/2022/07/Corso-6-e-7-10-2022-PAG.png
END:VEVENT
END:VCALENDAR