BEGIN:VCALENDAR
VERSION:2.0
PRODID:-//Ultra Scientific Italia - ECPv6.10.3//NONSGML v1.0//EN
CALSCALE:GREGORIAN
METHOD:PUBLISH
X-ORIGINAL-URL:https://www.ultrasci.it
X-WR-CALDESC:Eventi per Ultra Scientific Italia
REFRESH-INTERVAL;VALUE=DURATION:PT1H
X-Robots-Tag:noindex
X-PUBLISHED-TTL:PT1H
BEGIN:VTIMEZONE
TZID:Europe/Rome
BEGIN:DAYLIGHT
TZOFFSETFROM:+0100
TZOFFSETTO:+0200
TZNAME:CEST
DTSTART:20220327T010000
END:DAYLIGHT
BEGIN:STANDARD
TZOFFSETFROM:+0200
TZOFFSETTO:+0100
TZNAME:CET
DTSTART:20221030T010000
END:STANDARD
END:VTIMEZONE
BEGIN:VEVENT
DTSTART;TZID=Europe/Rome:20221115T093000
DTEND;TZID=Europe/Rome:20221115T133000
DTSTAMP:20260421T132847
CREATED:20220720T134058Z
LAST-MODIFIED:20220720T134058Z
UID:9400-1668504600-1668519000@www.ultrasci.it
SUMMARY:Corso di Formazione - Campionamento di rifiuti - Norma UNI 10802 e sua corretta applicazione
DESCRIPTION:Presentazione:\nIl corso approfondirà la Norma UNI 10802 e sua corretta applicazione. E’ diretto ai responsabili della pianificazione delle attività di campionamento dei rifiuti e ai tecnici qualificati per l’esecuzione di tali attività. \nProgramma:\n15 Novembre – 1° Giornata: \n\nriferimenti tecnici (EN 14899 e CEN/TR 15310-1)\naspetti normativi rilevanti il piano di campionamento\nselezione dell’approccio di campionamento\n\n16 Novembre – 2°Giornata: \n\nidentificazione e descrizione delle tecniche di campionamento\nmetodi di riduzione dimensionale dei campioni\ngestione dei campioni di laboratorio\nla documentazione del campionamento\nesempi di applicazione tratti dal rapporto tecnico UNI/TR 11682\n\n  \nIl corso si svolgerà in FAD (Formazione A Distanza) tramite la piattaforma GoToMeeting. \nE’ richiesta la disponibilità di un computer con telecamera\, che deve essere mantenuta accesa durante tutta la durata del corso\, microfono e una connessione dati stabile. \nAll’atto della conferma di iscrizione verranno forniti i dettagli per raggiungere la piattaforma del corso. \nLe diapositive verranno inviate in formato PDF. Non è consentita la registrazione audio e video del corso. \n  \nIl corso si svolgerà in 2 mattine il 15 e 16 Novembre\n\nLe sessioni avranno inizio alle ore 9\,30 fino alle 13\,30 con una pausa di 20 minuti dove ognuno potrà prepararsi un buon caffè. \n  \nRelatore: Dr. Fulvio Borrino \n  \nCorso: RIF 5\n \nCliccare per scaricare la scheda di iscrizione
URL:https://www.ultrasci.it/corso/corso-di-formazione-campionamento-di-rifiuti-norma-uni-10802-2022-2/
CATEGORIES:Rifiuti
ATTACH;FMTTYPE=image/png:https://www.ultrasci.it/wp-content/uploads/2022/07/Corso-15-e-16-11-2022-PAG.png
END:VEVENT
END:VCALENDAR