BEGIN:VCALENDAR
VERSION:2.0
PRODID:-//Ultra Scientific Italia - ECPv6.10.3//NONSGML v1.0//EN
CALSCALE:GREGORIAN
METHOD:PUBLISH
X-WR-CALNAME:Ultra Scientific Italia
X-ORIGINAL-URL:https://www.ultrasci.it
X-WR-CALDESC:Eventi per Ultra Scientific Italia
REFRESH-INTERVAL;VALUE=DURATION:PT1H
X-Robots-Tag:noindex
X-PUBLISHED-TTL:PT1H
BEGIN:VTIMEZONE
TZID:Europe/Rome
BEGIN:DAYLIGHT
TZOFFSETFROM:+0100
TZOFFSETTO:+0200
TZNAME:CEST
DTSTART:20230326T010000
END:DAYLIGHT
BEGIN:STANDARD
TZOFFSETFROM:+0200
TZOFFSETTO:+0100
TZNAME:CET
DTSTART:20231029T010000
END:STANDARD
END:VTIMEZONE
BEGIN:VEVENT
DTSTART;TZID=Europe/Rome:20231024T143000
DTEND;TZID=Europe/Rome:20231024T183000
DTSTAMP:20260420T135745
CREATED:20230725T110220Z
LAST-MODIFIED:20230725T110220Z
UID:9974-1698157800-1698172200@www.ultrasci.it
SUMMARY:Corso di Formazione - Metodi EPA 6010 e 6020 - Determinazione di elementi metallici - NUOVA EDIZIONE
DESCRIPTION:Presentazione:\nLa tecnica ICP è lo standard analitico attuale per la determinazione di elementi metallici in acqua e nelle soluzioni risultanti dalla digestione acida di altri tipi di matrici. Tale tecnica è alla base dei metodi EPA 6010 e 6020\, per i quali il corso si propone di descrivere i princìpi del procedimento analitico\, i requisiti metrologici\, le caratteristiche di prestazione e la struttura del sistema di assicurazione quali. \nProgramma:\n\nLa tecnica ICP-OES\nLa tecnica ICP accoppiata alla spettrometria di massa\nIl sistema di assicurazione qualità di EPA\nMetodo EPA 6010: requisiti metrologici e caratteristiche di prestazione\nMetodo EPA 6020: requisiti metrologici e caratteristiche di prestazione\nRassegna dei metodi preparativi compatibili con i metodi EPA 6010 e 6020\n\n  \nIl corso si svolgerà in FAD (Formazione A Distanza) tramite la piattaforma GoToMeeting. \nE’ richiesta la disponibilità di un computer con telecamera\, che deve essere mantenuta accesa durante tutta la durata del corso\, microfono e una connessione dati stabile. \nAll’atto della conferma di iscrizione verranno forniti i dettagli per raggiungere la piattaforma del corso. \nLe diapositive verranno inviate in formato PDF. Non è consentita la registrazione audio e video del corso. \n  \nIl corso si svolgerà in 2 pomeriggi il 24 e 27 Ottobre\n\nLe sessioni avranno inizio alle ore 14\,30 fino alle 18\,30 con una pausa di 20 minuti dove ognuno potrà prepararsi un buon caffè. \n  \nRelatore: Dr. Fulvio Borrino \n  \nCorso: EPA INORG\n \nCliccare per scaricare la scheda di iscrizione
URL:https://www.ultrasci.it/corso/corso-di-formazione-metodi-epa-6010-e-6020-determinazione-di-elementi-metallici-2023/
CATEGORIES:Emissioni e Ambienti di Lavoro
ATTACH;FMTTYPE=image/png:https://www.ultrasci.it/wp-content/uploads/2023/07/Corso-24-27-10-2023-PAG.png
END:VEVENT
END:VCALENDAR