BEGIN:VCALENDAR
VERSION:2.0
PRODID:-//Ultra Scientific Italia - ECPv6.10.3//NONSGML v1.0//EN
CALSCALE:GREGORIAN
METHOD:PUBLISH
X-ORIGINAL-URL:https://www.ultrasci.it
X-WR-CALDESC:Eventi per Ultra Scientific Italia
REFRESH-INTERVAL;VALUE=DURATION:PT1H
X-Robots-Tag:noindex
X-PUBLISHED-TTL:PT1H
BEGIN:VTIMEZONE
TZID:Europe/Rome
BEGIN:DAYLIGHT
TZOFFSETFROM:+0100
TZOFFSETTO:+0200
TZNAME:CEST
DTSTART:20240331T010000
END:DAYLIGHT
BEGIN:STANDARD
TZOFFSETFROM:+0200
TZOFFSETTO:+0100
TZNAME:CET
DTSTART:20241027T010000
END:STANDARD
END:VTIMEZONE
BEGIN:VEVENT
DTSTART;TZID=Europe/Rome:20240212T143000
DTEND;TZID=Europe/Rome:20240212T183000
DTSTAMP:20260420T051203
CREATED:20231205T161906Z
LAST-MODIFIED:20240129T151619Z
UID:10078-1707748200-1707762600@www.ultrasci.it
SUMMARY:Corso di Formazione - Presentazione della nuova Linea Guida Eurachem 2023. Valutazione dell'incertezza di campionamento
DESCRIPTION:Presentazione:\nIl corso di formazione ha l’obiettivo di illustrare le principali modifiche della nuova Linea Guida Eurachem del 2023\, pubblicata dieci anni dopo la versione del 2013. \nParticolarmente interessante\, per la stima dell’incertezza di misura\, è l’introduzione del calcolo del contributo dovuto all’incertezza di campionamento. \nVerranno illustrate le modalità di calcolo di questo contributo. \nProgramma:\nGli argomenti che verranno trattati nel corso di formazione saranno i seguenti: \n\npresentazione del corso e dei concetti di base\nmodifiche linea Guida Eurachem\ncontributo del campionamento\n\n  \nIl corso si svolgerà in FAD (Formazione A Distanza) tramite la piattaforma GoToMeeting. \nE’ richiesta la disponibilità di un computer con telecamera\, che deve essere mantenuta accesa durante tutta la durata del corso\, microfono e una connessione dati stabile. \nAll’atto della conferma di iscrizione verranno forniti i dettagli per raggiungere la piattaforma del corso. \nLe diapositive verranno inviate in formato PDF. Non è consentita la registrazione audio e video del corso. \n  \nLa sessione avrà inizio alle ore 14\,30 fino alle 18\,30 con una pausa di 20 minuti dove ognuno potrà prepararsi un buon caffè. \n  \nRelatore: Dr.ssa Anna Moschin \n  \nCorso: MICRO7\nCliccare per scaricare la scheda di iscrizione
URL:https://www.ultrasci.it/corso/corso-di-formazione-nuova-linea-guida-eurachem-2023-incertezza-di-campionamento/
CATEGORIES:Microbiologia,Qualità del Dato
ATTACH;FMTTYPE=image/png:https://www.ultrasci.it/wp-content/uploads/2024/01/Corso-12-02-2024-PAG.png
END:VEVENT
END:VCALENDAR