BEGIN:VCALENDAR
VERSION:2.0
PRODID:-//Ultra Scientific Italia - ECPv6.10.3//NONSGML v1.0//EN
CALSCALE:GREGORIAN
METHOD:PUBLISH
X-ORIGINAL-URL:https://www.ultrasci.it
X-WR-CALDESC:Eventi per Ultra Scientific Italia
REFRESH-INTERVAL;VALUE=DURATION:PT1H
X-Robots-Tag:noindex
X-PUBLISHED-TTL:PT1H
BEGIN:VTIMEZONE
TZID:Europe/Rome
BEGIN:DAYLIGHT
TZOFFSETFROM:+0100
TZOFFSETTO:+0200
TZNAME:CEST
DTSTART:20240331T010000
END:DAYLIGHT
BEGIN:STANDARD
TZOFFSETFROM:+0200
TZOFFSETTO:+0100
TZNAME:CET
DTSTART:20241027T010000
END:STANDARD
END:VTIMEZONE
BEGIN:VEVENT
DTSTART;TZID=Europe/Rome:20240312T143000
DTEND;TZID=Europe/Rome:20240312T183000
DTSTAMP:20260420T035422
CREATED:20240109T161203Z
LAST-MODIFIED:20240212T140929Z
UID:10140-1710253800-1710268200@www.ultrasci.it
SUMMARY:Corso di Formazione - Depuratori delle acque a fanghi attivi: corso base per la conduzione
DESCRIPTION:Presentazione:\nAd oltre cento anni dalla sua invenzione\, il processo a fanghi attivi è tuttora il più diffuso sistema di depurazione delle acque reflue. \nGli impianti realizzati per trattare reflui residenziali o industriali presentano spesso problemi di gestione. \nIl corso è rivolto a tutti coloro che sono impegnati nella conduzione di un impianto a fanghi attivi e ha lo scopo di fornire gli strumenti per riconoscere i problemi gestionali più comuni\, individuarne le cause e attuare le misure correttive più opportune. \nProgramma:\n\nLe basi del processo\nLe più comuni configurazioni impiantistiche\nI parametri di conduzione del processo\nI principali strumenti di controllo\nL’osservazione microscopica del fango al servizio della conduzione dell’impianto\nLa gestione dei più frequenti problemi del processo\nEfficacia ed efficienza dell’impianto\n\nIl corso prevede da parte di un Provider autorizzato il rilascio  di 16 crediti ECM per Chimici\, Fisici e Biologi. (L’assegnazione verrà attribuita ai discenti che partecipano al corso confermando l’entrata e l’uscita e superando il test di apprendimento finale come da regolamento ECM. Il numero di crediti è in fase di valutazione). \nIl corso si svolgerà in FAD (Formazione A Distanza) tramite la piattaforma GoToMeeting. \nE’ richiesta la disponibilità di un computer con telecamera\, che deve essere mantenuta accesa durante tutta la durata del corso\, microfono e una connessione dati stabile. \nAll’atto della conferma di iscrizione verranno forniti i dettagli per raggiungere la piattaforma del corso. \nLe diapositive verranno inviate in formato PDF. Non è consentita la registrazione audio e video del corso. \n  \nIl corso si svolgerà in 4 pomeriggi il 12\, 13\, 14 e 15 Marzo\n\nLe sessioni avranno inizio alle ore 14\,30 fino alle 18\,30 con una pausa di 20 minuti dove ognuno potrà prepararsi un buon caffè. \n  \nRelatore: Dr. Fulvio Borrino \n  \nCorso: FAN\n \nCliccare per scaricare la scheda di iscrizione
URL:https://www.ultrasci.it/corso/corso-di-formazione-depuratori-delle-acque-a-fanghi-attivi/
ATTACH;FMTTYPE=image/png:https://www.ultrasci.it/wp-content/uploads/2024/01/Corso-12-03-2024-PAG.png
END:VEVENT
END:VCALENDAR