BEGIN:VCALENDAR
VERSION:2.0
PRODID:-//Ultra Scientific Italia - ECPv6.10.3//NONSGML v1.0//EN
CALSCALE:GREGORIAN
METHOD:PUBLISH
X-ORIGINAL-URL:https://www.ultrasci.it
X-WR-CALDESC:Eventi per Ultra Scientific Italia
REFRESH-INTERVAL;VALUE=DURATION:PT1H
X-Robots-Tag:noindex
X-PUBLISHED-TTL:PT1H
BEGIN:VTIMEZONE
TZID:Europe/Rome
BEGIN:DAYLIGHT
TZOFFSETFROM:+0100
TZOFFSETTO:+0200
TZNAME:CEST
DTSTART:20210328T010000
END:DAYLIGHT
BEGIN:STANDARD
TZOFFSETFROM:+0200
TZOFFSETTO:+0100
TZNAME:CET
DTSTART:20211031T010000
END:STANDARD
END:VTIMEZONE
BEGIN:VEVENT
DTSTART;TZID=Europe/Rome:20210609T093000
DTEND;TZID=Europe/Rome:20210609T133000
DTSTAMP:20260422T171025
CREATED:20210413T155927Z
LAST-MODIFIED:20210413T155927Z
UID:3514-1623231000-1623245400@www.ultrasci.it
SUMMARY:Corso di Formazione - La gestione delle apparecchiature nei laboratori di prova ai sensi della norma UNI CEI EN ISO/IEC 17025:2018
DESCRIPTION:Presentazione:\nIl corso tratta\, con riferimento alla norma UNI CEI EN ISO/IEC 17025:2018\, le attività di gestione delle principali apparecchiature utilizzate nei laboratori per le prove chimiche e microbiologiche: conferma metrologica\, manutenzione\, taratura e controllo intermedio della taratura. \nL’obiettivo del corso è quello di fornire le istruzioni\, basate su linee guida o norme tecniche vigenti\, per la gestione delle apparecchiature costituite da: \n\nMercoledì 9 Giugno: misuratori di temperatura\, frigoriferi\, incubatori\, stufe.\nGiovedì 10 Giugno: bilance analitiche e tecniche e micropipette.\nVenerdì 11 Giugno: spettrofotometri\, cromatografi.\n\nÈ possibile partecipare anche solo ad una delle due giornate proposte. \nProgramma Mercoledì 9 Giugno:\n\nRequisiti della norma UNI CEI EN ISO/IEC 17025:2018 per la gestione delle apparecchiature\nManutenzione ai sensi delle norme UNI EN 13306:2003 e UNI 10147:2003 per apparecchiature a temperatura controllata\nRequisiti per i processi e le apparecchiature di misurazione ai sensi della norma UNI EN ISO 10012:2004\nTaratura e controllo intermedio della taratura\nEsempi pratici di taratura di misuratori di temperatura\nCaratterizzazione di apparecchiature a temperatura controllata (incubatori\, stufe e frigoriferi)\n\n  \nIl corso si svolgerà in FAD (Formazione A Distanza) tramite la piattaforma GoToMeeting. \nE’ richiesta la disponibilità di un computer con telecamera\, che deve essere mantenuta accesa durante tutta la durata del corso\, microfono e una connessione dati stabile. \nAll’atto della conferma di iscrizione verranno forniti i dettagli per raggiungere la piattaforma del corso. \nLe diapositive verranno inviate in formato PDF. Non è consentita la registrazione audio e video del corso. \nIl corso avrà inizio alle ore 9\,30 fino alle 13\,30 con una pausa di 20 minuti dove ognuno potrà prepararsi un buon caffè. \n  \nRelatrice: Dr.ssa Maria Letizia Davì \n  \n  \n  \nCorso: TAR 1\n \nCliccare per scaricare la scheda di iscrizione
URL:https://www.ultrasci.it/corso/corso-di-formazione-la-gestione-delle-apparecchiature-nei-laboratori-di-prova-2021-parte1/
CATEGORIES:Qualità del Dato
ATTACH;FMTTYPE=image/png:https://www.ultrasci.it/wp-content/uploads/2021/04/Corso-9-10-11-06-2021-PAG.png
END:VEVENT
BEGIN:VEVENT
DTSTART;TZID=Europe/Rome:20210610T093000
DTEND;TZID=Europe/Rome:20210610T133000
DTSTAMP:20260422T171025
CREATED:20210413T160009Z
LAST-MODIFIED:20210413T160009Z
UID:3515-1623317400-1623331800@www.ultrasci.it
SUMMARY:Corso di Formazione - La gestione delle apparecchiature nei laboratori di prova ai sensi della norma UNI CEI EN ISO/IEC 17025:2018
DESCRIPTION:Presentazione:\nIl corso tratta\, con riferimento alla norma UNI CEI EN ISO/IEC 17025:2018\, le attività di gestione delle principali apparecchiature utilizzate nei laboratori per le prove chimiche e microbiologiche: conferma metrologica\, manutenzione\, taratura e controllo intermedio della taratura. \nL’obiettivo del corso è quello di fornire le istruzioni\, basate su linee guida o norme tecniche vigenti\, per la gestione delle apparecchiature costituite da: \n\nMercoledì 9 Giugno: misuratori di temperatura\, frigoriferi\, incubatori\, stufe.\nGiovedì 10 Giugno: bilance analitiche e tecniche e micropipette.\nVenerdì 11 Giugno: spettrofotometri\, cromatografi.\n\nÈ possibile partecipare anche solo ad una delle due giornate proposte. \nProgramma Mercoledì 10 Giugno:\n\nRequisiti della norma UNI CEI EN ISO/IEC 17025:2018 per la gestione delle apparecchiature\nManutenzione ai sensi delle norme UNI EN 13306:2003 e UNI 10147:2003 per bilance e micropipette\nRequisiti per i processi e le apparecchiature di misurazione ai sensi della norma UNI EN ISO 10012:2004\nTaratura e controllo intermedio della taratura\nEsempi pratici di taratura di bilance e micropipette\n\n  \nIl corso si svolgerà in FAD (Formazione A Distanza) tramite la piattaforma GoToMeeting. \nE’ richiesta la disponibilità di un computer con telecamera\, che deve essere mantenuta accesa durante tutta la durata del corso\, microfono e una connessione dati stabile. \nAll’atto della conferma di iscrizione verranno forniti i dettagli per raggiungere la piattaforma del corso. \nLe diapositive verranno inviate in formato PDF. Non è consentita la registrazione audio e video del corso. \nIl corso avrà inizio alle ore 9\,30 fino alle 13\,30 con una pausa di 20 minuti dove ognuno potrà prepararsi un buon caffè. \n  \nRelatrice: Dr.ssa Maria Letizia Davì \n  \n  \n  \nCorso: TAR 1 bis\n \nCliccare per scaricare la scheda di iscrizione
URL:https://www.ultrasci.it/corso/corso-di-formazione-la-gestione-delle-apparecchiature-nei-laboratori-di-prova-2021-parte2/
CATEGORIES:Qualità del Dato
ATTACH;FMTTYPE=image/png:https://www.ultrasci.it/wp-content/uploads/2021/04/Corso-9-10-11-06-2021-PAG.png
END:VEVENT
BEGIN:VEVENT
DTSTART;TZID=Europe/Rome:20210611T093000
DTEND;TZID=Europe/Rome:20210611T133000
DTSTAMP:20260422T171025
CREATED:20210413T160044Z
LAST-MODIFIED:20210413T160044Z
UID:3516-1623403800-1623418200@www.ultrasci.it
SUMMARY:Corso di Formazione - La gestione delle apparecchiature nei laboratori di prova ai sensi della norma UNI CEI EN ISO/IEC 17025:2018
DESCRIPTION:Presentazione:\nIl corso tratta\, con riferimento alla norma UNI CEI EN ISO/IEC 17025:2018\, le attività di gestione delle principali apparecchiature utilizzate nei laboratori per le prove chimiche e microbiologiche: conferma metrologica\, manutenzione\, taratura e controllo intermedio della taratura. \nL’obiettivo del corso è quello di fornire le istruzioni\, basate su linee guida o norme tecniche vigenti\, per la gestione delle apparecchiature costituite da: \n\nMercoledì 9 Giugno: misuratori di temperatura\, frigoriferi\, incubatori\, stufe.\nGiovedì 10 Giugno: bilance analitiche e tecniche e micropipette.\nVenerdì 11 Giugno: spettrofotometri\, cromatografi.\n\nÈ possibile partecipare anche solo ad una delle due giornate proposte. \nProgramma Mercoledì 11 Giugno:\n\nRequisiti della norma UNI CEI EN ISO/IEC 17025:2018 per la gestione delle apparecchiature\nManutenzione ai sensi delle norme UNI EN 13306:2003 e UNI 10147:2003 per spettrofotometri\, gascromatografi\nRequisiti per i processi e le apparecchiature di misurazione ai sensi della norma UNI EN ISO 10012:2004\nVerifica delle prestazioni strumentali di spettrofotometri (UV\, Vis\, IR\, AAS) cromatografi ionici\, HPLC e GC\nCostruzione delle curve di taratura e controllo intermedio della taratura\n\n  \nIl corso si svolgerà in FAD (Formazione A Distanza) tramite la piattaforma GoToMeeting. \nE’ richiesta la disponibilità di un computer con telecamera\, che deve essere mantenuta accesa durante tutta la durata del corso\, microfono e una connessione dati stabile. \nAll’atto della conferma di iscrizione verranno forniti i dettagli per raggiungere la piattaforma del corso. \nLe diapositive verranno inviate in formato PDF. Non è consentita la registrazione audio e video del corso. \nIl corso avrà inizio alle ore 9\,30 fino alle 13\,30 con una pausa di 20 minuti dove ognuno potrà prepararsi un buon caffè. \n  \nRelatrice: Dr.ssa Maria Letizia Davì \n  \n  \n  \nCorso: TAR 2\n \nCliccare per scaricare la scheda di iscrizione
URL:https://www.ultrasci.it/corso/corso-di-formazione-la-gestione-delle-apparecchiature-nei-laboratori-di-prova-2021-parte3/
CATEGORIES:Qualità del Dato
ATTACH;FMTTYPE=image/png:https://www.ultrasci.it/wp-content/uploads/2021/04/Corso-9-10-11-06-2021-PAG.png
END:VEVENT
BEGIN:VEVENT
DTSTART;TZID=Europe/Rome:20210624T093000
DTEND;TZID=Europe/Rome:20210624T133000
DTSTAMP:20260422T171025
CREATED:20210413T160240Z
LAST-MODIFIED:20210413T160240Z
UID:3520-1624527000-1624541400@www.ultrasci.it
SUMMARY:Corso di Formazione - Esercitazione pratica con utilizzo di computer per il calcolo dell’incertezza di misura da associare alle prove chimiche con approccio metrologico ai sensi della Guida ACCREDIA DT-0002
DESCRIPTION:Presentazione:\nLa giornata si rivolge agli operatori già in possesso della conoscenza di base sul calcolo dell’incertezza e si propone di approfondirne gli aspetti applicativi mediante esercitazione pratica con l’uso di fogli di calcolo\, che saranno forniti ai partecipanti al termine del corso\, ai sensi della Guida ACCREDIA DT-0002. \nIl corso illustra sinteticamente alcuni test statistici di frequente applicazione per l’elaborazione di dati analitici derivanti da prove chimiche. Viene affrontato l’approccio metrologico per il calcolo dell’incertezza di misura da associare alle tarature ed alle prove chimiche\, con sviluppo dei calcoli dei principali contributi che influenzano la misura. \nProgramma:\n\nIndividuazione dei contributi di tipo A e B\nCalcolo dell’incertezza con approccio metrologico per la determinazione dell’umidità in alimenti con metodo gravimetrico\nCalcolo dell’incertezza con approccio metrologico per la determinazione del fosforo totale in acque con metodo spettrofotometrico\nEspressione dell’incertezza di misura sul Rapporto di prova\n\n  \nIl corso si svolgerà in FAD (Formazione A Distanza) tramite la piattaforma GoToMeeting. \nE’ richiesta la disponibilità di un computer con telecamera\, che deve essere mantenuta accesa durante tutta la durata del corso\, microfono e una connessione dati stabile. \nAll’atto della conferma di iscrizione verranno forniti i dettagli per raggiungere la piattaforma del corso. \nLe diapositive verranno inviate in formato PDF. Non è consentita la registrazione audio e video del corso. \n  \nIl corso si svolgerà in 2 mattine il 24 e il 25 Giugno\n\nLe sessioni avranno inizio alle ore 9\,30 fino alle 13\,30 con una pausa di 20 minuti dove ognuno potrà prepararsi un buon caffè. \nI fogli di calcolo verranno inviati il giorno precedente al corso. \n  \nRelatrce: Dr.ssa Maria Letizia Davì \n  \n  \nCorso: STAT 2\n \nCliccare per scaricare la scheda di iscrizione
URL:https://www.ultrasci.it/corso/corso-di-formazione-esercitazione-pratica-per-il-calcolo-dellincertezza-ai-sensi-della-guida-accredia-dt-0002-2021/
CATEGORIES:Qualità del Dato,Statistica
ATTACH;FMTTYPE=image/png:https://www.ultrasci.it/wp-content/uploads/2021/04/Corso-24-25-06-2021-PAG.png
END:VEVENT
END:VCALENDAR