BEGIN:VCALENDAR
VERSION:2.0
PRODID:-//Ultra Scientific Italia - ECPv6.10.3//NONSGML v1.0//EN
CALSCALE:GREGORIAN
METHOD:PUBLISH
X-ORIGINAL-URL:https://www.ultrasci.it
X-WR-CALDESC:Eventi per Ultra Scientific Italia
REFRESH-INTERVAL;VALUE=DURATION:PT1H
X-Robots-Tag:noindex
X-PUBLISHED-TTL:PT1H
BEGIN:VTIMEZONE
TZID:Europe/Rome
BEGIN:DAYLIGHT
TZOFFSETFROM:+0100
TZOFFSETTO:+0200
TZNAME:CEST
DTSTART:20210328T010000
END:DAYLIGHT
BEGIN:STANDARD
TZOFFSETFROM:+0200
TZOFFSETTO:+0100
TZNAME:CET
DTSTART:20211031T010000
END:STANDARD
END:VTIMEZONE
BEGIN:VEVENT
DTSTART;TZID=Europe/Rome:20210705T143000
DTEND;TZID=Europe/Rome:20210705T183000
DTSTAMP:20260422T154433
CREATED:20210426T143346Z
LAST-MODIFIED:20210426T151239Z
UID:3560-1625495400-1625509800@www.ultrasci.it
SUMMARY:Corso di Formazione - Campionamento di Materiale Contenente Amianto (MCA) e fibre aerodisperse
DESCRIPTION:Presentazione:\nIl corso intende fornire uno strumento utile per eseguire il campionamento di amianto a chi opera nei laboratori di analisi per i quali la formazione è uno dei prerequisiti fondamentali richiesti dal DM14/5/96. \nIl corso tratterà gli aspetti teorici e pratici della progettazione e realizzazione del campionamento sicuro e rappresentativo di tutti i tipi di materiali amianto. \nInoltre il corso tratterà aspetti relativi alla sicurezza dei lavoratori e ai principi di valutazione del rischio da amianto. \nProgramma:\n\nQuadro legislativo di riferimento\nGestione ed interpretazione delle principali norme tecniche nazionali ed internazionali di settore (es.D.M.6/9/94\, D.M.14/5/96\, ISO 16000/7\,HSG248\, etc etc)\nCampi di applicazione: principali tecniche analitiche\nInterpretazione dei risultati\nGestione degli strumenti di campionamento\nPrincipi di valutazione del rischio da amianto: piani di manutenzione e controllo\nMisure di sicurezza dei lavoratori e DPI\n\n  \nIl corso si svolgerà in FAD (Formazione A Distanza) tramite la piattaforma GoToMeeting. \nE’ richiesta la disponibilità di un computer con telecamera\, che deve essere mantenuta accesa durante tutta la durata del corso\, microfono e una connessione dati stabile. \nAll’atto della conferma di iscrizione verranno forniti i dettagli per raggiungere la piattaforma del corso. \nLe diapositive verranno inviate in formato PDF. Non è consentita la registrazione audio e video del corso. \n  \nIl corso si svolgerà in 2 pomeriggi il 5 e il 7 Luglio\n\nLe sessioni avranno inizio alle ore 14\,30 fino alle 18\,30 con una pausa di 20 minuti dove ognuno potrà prepararsi un buon caffè. \n  \nRelatore: Dr. Pierino Di Pietro \n  \nCorso: AMI 2\n \nCliccare per scaricare la scheda di iscrizione
URL:https://www.ultrasci.it/corso/corso-di-formazione-campionamento-materiale-contenente-amianto-mca/
CATEGORIES:Metodi Analitici
ATTACH;FMTTYPE=image/png:https://www.ultrasci.it/wp-content/uploads/2021/04/Corso-05-07-07-2021-PAG.png
END:VEVENT
BEGIN:VEVENT
DTSTART;TZID=Europe/Rome:20210708T143000
DTEND;TZID=Europe/Rome:20210708T183000
DTSTAMP:20260422T154433
CREATED:20210413T161407Z
LAST-MODIFIED:20210413T161407Z
UID:3534-1625754600-1625769000@www.ultrasci.it
SUMMARY:Corso di Formazione - La nuova norma ISO/IEC 17025 per l’accreditamento dei laboratori di prova
DESCRIPTION:Presentazione:\nIl corso ha lo scopo di illustrare le principali modifiche e differenze della nuova norma rispetto alla precedente revisione della norma ISO/IEC 17025. \nIl corso è pensato per fornire una panoramica globale su come affrontare e impostare il passaggio in laboratorio per allinearsi alle nuove richieste. Infatti nella nuova versione non esiste più una netta differenza tra requisiti tecnici e di sistema\, ma piuttosto è presente maggiore interconnessione tra questi due aspetti\, si parla infatti di «sistema di gestione». \nProgramma:\nGli argomenti che verranno trattati nel corso di formazione saranno i seguenti: \n\npresentazione della nuova norma e della sua struttura;\nprincipali differenze tra le due edizioni che saranno riportate in una tabella di correlazione tra i punti di norma;\nanalisi dei requisiti generali e valutazione dell’imparzialità;\nanalisi dei requisiti strutturali e relativi alle risorse;\nanalisi dei requisiti di processo;\nelenco dei processi del laboratorio;\nanalisi dei requisiti del sistema di gestione;\nprescrizioni di ACCREDIA (RT-08);\nproposte applicative.\n\n  \nIl corso si svolgerà in FAD (Formazione A Distanza) tramite la piattaforma GoToMeeting. \nE’ richiesta la disponibilità di un computer con telecamera\, che deve essere mantenuta accesa durante tutta la durata del corso\, microfono e una connessione dati stabile. \nAll’atto della conferma di iscrizione verranno forniti i dettagli per raggiungere la piattaforma del corso. \nLe diapositive verranno inviate in formato PDF. Non è consentita la registrazione audio e video del corso. \n  \nIl corso si svolgerà in 2 pomeriggi il 8 e il 9 Luglio\n\nLe sessioni avranno inizio alle ore 14\,30 fino alle 18\,30 con una pausa di 20 minuti dove ognuno potrà prepararsi un buon caffè. \n  \nRelatrice: Dr.ssa Anna Moschin \n  \nCorso: GEST 2\n \nCliccare per scaricare la scheda di iscrizione
URL:https://www.ultrasci.it/corso/corso-di-formazione-la-nuova-norma-isoiec-17025-2021/
CATEGORIES:Qualità del Dato
ATTACH;FMTTYPE=image/png:https://www.ultrasci.it/wp-content/uploads/2021/04/Corso-8-9-11-2021-PAG.png
END:VEVENT
BEGIN:VEVENT
DTSTART;TZID=Europe/Rome:20210716T143000
DTEND;TZID=Europe/Rome:20210716T183000
DTSTAMP:20260422T154433
CREATED:20210414T110731Z
LAST-MODIFIED:20210426T145937Z
UID:3540-1626445800-1626460200@www.ultrasci.it
SUMMARY:Corso di Formazione - Assicurazione della qualità delle prove microbiologiche
DESCRIPTION:Presentazione:\nIl corso ha lo scopo di fornire indicazioni in merito alla gestione dei dati relativi all’assicurazione della qualità dei risultati di prova in un laboratorio microbiologico. \nIn relazione a quanto previsto nel capitolo 5.9 nella Norma UNI CEI EN ISO/IEC 17025:2018 e nei regolamenti tecnici di ACCREDIA\, il laboratorio deve disporre di una procedura di assicurazione della qualità per la pianificazione e l’effettuazione delle prove\, la valutazione dei risultati\, la gestione della documentazione e delle relative registrazioni. \nI dati risultanti devono essere analizzati in modo che le tendenze siano rilevabili con la finalità di prevenire risultati non corretti e perciò il verificarsi di non conformità. \nIl corso propone fogli di calcolo\, esempi numerici e l’utilizzo di carte di controllo per la gestione e la valutazione dei risultati riguardanti l’assicurazione della qualità del dato. \nNello specifico si prenderanno in considerazione i dati risultanti da: l’utilizzo di materiali di riferimento\, la partecipazione a confronti interlaboratorio\, la ripetizione di prove e il controllo dei mezzi colturali (terreni\, diluenti\, etc.). \nProgramma:\n\nPresentazione del corso e dei riferimenti normativi\nAssicurazione della qualità delle prove in relazione ai requisiti del capitolo 5.9 della Norma UNI CEI EN ISO/IEC 17025:2018 e dei regolamenti tecnici\ndi ACCREDIA\nUtilizzo di materiali di riferimento e gestione dei dati sperimentali per monitorare l’accuratezza del dato\nGestione dei dati di ritorno dalla partecipazione a confronti interlaboratorio e prescrizioni ACCREDIA (documento RT-24)\nQualifica ed mantenimento degli operatori abilitati all’esecuzione delle prove\nControllo dei mezzi colturali preparati dal laboratorio o acquistati pronti all’uso\, in riferimento ai requisiti proposti dalla norma internazionale ISO 11133:2014\nCostruzione di carte di controllo per il monitoraggio dei risultati ottenuti dalla qualifica dell’operatore\, dal controllo dei terreni di coltura\, dai dati di ritorno dei circuiti interlaboratorio\, dall’utilizzo di materiali di riferimento\, etc..\n\n  \nIl corso si svolgerà in FAD (Formazione A Distanza) tramite la piattaforma GoToMeeting. \nE’ richiesta la disponibilità di un computer con telecamera\, che deve essere mantenuta accesa durante tutta la durata del corso\, microfono e una connessione dati stabile. \nAll’atto della conferma di iscrizione verranno forniti i dettagli per raggiungere la piattaforma del corso. \nLe diapositive verranno inviate in formato PDF. Non è consentita la registrazione audio e video del corso. \n  \nIl corso si svolgerà il 16 Luglio\n\nLa sessione avrà inizio alle ore 14\,30 fino alle 18\,30 con una pausa di 20 minuti dove ognuno potrà prepararsi un buon caffè. \n  \nRelatrice: Dr.ssa Anna Moschin \n  \nCorso: MICRO 3\n \nCliccare per scaricare la scheda di iscrizione
URL:https://www.ultrasci.it/corso/corso-di-formazione-assicurazione-della-qualita-delle-prove-microbiologiche-2021/
CATEGORIES:Microbiologia
ATTACH;FMTTYPE=image/png:https://www.ultrasci.it/wp-content/uploads/2021/04/Corso-16-07-2021-PAG.png
END:VEVENT
END:VCALENDAR