BEGIN:VCALENDAR
VERSION:2.0
PRODID:-//Ultra Scientific Italia - ECPv6.10.3//NONSGML v1.0//EN
CALSCALE:GREGORIAN
METHOD:PUBLISH
X-ORIGINAL-URL:https://www.ultrasci.it
X-WR-CALDESC:Eventi per Ultra Scientific Italia
REFRESH-INTERVAL;VALUE=DURATION:PT1H
X-Robots-Tag:noindex
X-PUBLISHED-TTL:PT1H
BEGIN:VTIMEZONE
TZID:Europe/Rome
BEGIN:DAYLIGHT
TZOFFSETFROM:+0100
TZOFFSETTO:+0200
TZNAME:CEST
DTSTART:20210328T010000
END:DAYLIGHT
BEGIN:STANDARD
TZOFFSETFROM:+0200
TZOFFSETTO:+0100
TZNAME:CET
DTSTART:20211031T010000
END:STANDARD
END:VTIMEZONE
BEGIN:VEVENT
DTSTART;TZID=Europe/Rome:20210910T143000
DTEND;TZID=Europe/Rome:20210910T183000
DTSTAMP:20260422T125745
CREATED:20210728T125946Z
LAST-MODIFIED:20210728T125946Z
UID:3594-1631284200-1631298600@www.ultrasci.it
SUMMARY:Corso di Formazione - Calcolo dell’incertezza di misura da associare alle prove microbiologiche
DESCRIPTION:Presentazione:\nIl corso ha lo scopo di presentare le modalità di calcolo dell’incertezza di misura da associare alle prove microbiologiche su campioni di alimenti e di acqua. \nSi illustreranno gli approcci di calcolo dell’incertezza di misura descritti nelle norme ISO 19036:2019 e ISO 29201:2012. \nDurante il corso verranno proposti fogli di calcolo ed esempi numerici relativi all’applicazione delle suddette norme. \nProgramma:\n\nIl calcolo dell’incertezza di misura per le prove microbiologiche sugli alimenti secondo quanto proposto nella norma ISO 19036:2019\nIl calcolo dell’incertezza di misura per le prove microbiologiche sulla matrice acqua secondo quanto proposto nella norma ISO 29201:2012\nUtilizzo di fogli di calcolo elettronici per il calcolo dell’incertezza di misura\nValutazione dei dati sperimentali mediante test statistici\nAssicurazione qualità del dato analitico\n\n  \nIl corso si svolgerà in FAD (Formazione A Distanza) tramite la piattaforma GoToMeeting. \nE’ richiesta la disponibilità di un computer con telecamera\, che deve essere mantenuta accesa durante tutta la durata del corso\, microfono e una connessione dati stabile. \nAll’atto della conferma di iscrizione verranno forniti i dettagli per raggiungere la piattaforma del corso. \nLe diapositive verranno inviate in formato PDF. Non è consentita la registrazione audio e video del corso. \n  \nIl corso si svolgerà in 2 pomeriggi il 10 e il 17 Settembre\n\nLa sessione avranno inizio alle ore 14\,30 fino alle 18\,30 con una pausa di 20 minuti dove ognuno potrà prepararsi un buon caffè. \n  \nRelatrice: Dr.ssa Anna Moschin \n  \nCorso: MICRO 2\n \nCliccare per scaricare la scheda di iscrizione
URL:https://www.ultrasci.it/corso/corso-di-formazione-calcolo-incertezza-delle-prove-microbiologiche-2021-2/
CATEGORIES:Microbiologia
ATTACH;FMTTYPE=image/png:https://www.ultrasci.it/wp-content/uploads/2021/07/Corso-10-17-09-2021-PAG.png
END:VEVENT
BEGIN:VEVENT
DTSTART;TZID=Europe/Rome:20210915T093000
DTEND;TZID=Europe/Rome:20210915T133000
DTSTAMP:20260422T125745
CREATED:20210728T131610Z
LAST-MODIFIED:20210728T131610Z
UID:3607-1631698200-1631712600@www.ultrasci.it
SUMMARY:Corso di Formazione - La Statistica di base nei laboratori
DESCRIPTION:Presentazione:\nIl corso riprende i concetti di statistica di base come ad esempio la definizione dei tipi di errore e dei parametri statistici di uso più frequente in chimica analitica. \nVerranno descritti sinteticamente i tests di significatività comunemente utilizzati quando la distribuzione dei dati è normale. \nDescrizione della distribuzione t secondo Student e dei tests correlati (il test t\, il test t esteso o il test F). \nRegressione e Correlazione dei dati: in particolare verrà discussa la regressione lineare con il metodo dei minimi quadrati. \nLa parte teorica sarà integrata con esempi numerici. \nProgramma:\nVerranno trattati i seguenti argomenti: \n\nParametri statistici e di posizione. La distribuzione normale. Il processo di misurazione.\nPrecisione e accuratezza.\nTest di significatività definizione ipotesi nulla H0 e ipotesi alternativa H1. Errori di I e II tipo.\nTeoria dei piccoli campioni: distribuzione t di Student.\nTest t: confronto con valore noto e confronto tra le medie di due campioni.\nVerifica della precisione Test F.\nVerifica della distribuzione normale: Test di Shapiro-Wilk.\nIndividuazione di dati anomali: Test di Dixon\, Grubbs.\nVerifica compatibilità di dati provenienti da popolazioni differenti: test ANOVA.\nRegressione e correlazione. Metodo dei minimi quadrati.\n\n  \nIl corso si svolgerà in FAD (Formazione A Distanza) tramite la piattaforma GoToMeeting. \nE’ richiesta la disponibilità di un computer con telecamera\, microfono e una connessione dati stabile. All’atto della conferma di iscrizione verranno forniti i dettagli per raggiungere la piattaforma del corso. \nLe diapositive verranno inviate in formato PDF. \nIl corso avrà inizio alle ore 9\,30 fino alle 13\,30 con una pausa di 20 minuti dove ognuno potrà prepararsi un buon caffè. \n  \nRelatrici: Dr.ssa Marcella Monti e Dr.ssa Raffaella Spisani \n  \nCorso: STAT 0\n \nCliccare per scaricare la scheda di iscrizione
URL:https://www.ultrasci.it/corso/corso-di-formazione-fad-la-statistica-di-base-nei-laboratori-2021-2/
CATEGORIES:Statistica
ATTACH;FMTTYPE=image/png:https://www.ultrasci.it/wp-content/uploads/2021/07/Corso-15-09-2021-PAG.png
END:VEVENT
BEGIN:VEVENT
DTSTART;TZID=Europe/Rome:20210922T093000
DTEND;TZID=Europe/Rome:20210922T133000
DTSTAMP:20260422T125745
CREATED:20210825T150812Z
LAST-MODIFIED:20210825T150812Z
UID:3613-1632303000-1632317400@www.ultrasci.it
SUMMARY:Corso di Formazione - La Statistica di base nei laboratori
DESCRIPTION:Presentazione:\nIl corso riprende i concetti di statistica di base come ad esempio la definizione dei tipi di errore e dei parametri statistici di uso più frequente in chimica analitica. \nVerranno descritti sinteticamente i tests di significatività comunemente utilizzati quando la distribuzione dei dati è normale. \nDescrizione della distribuzione t secondo Student e dei tests correlati (il test t\, il test t esteso o il test F). \nRegressione e Correlazione dei dati: in particolare verrà discussa la regressione lineare con il metodo dei minimi quadrati. \nLa parte teorica sarà integrata con esempi numerici. \nProgramma:\nVerranno trattati i seguenti argomenti: \n\nParametri statistici e di posizione. La distribuzione normale. Il processo di misurazione.\nPrecisione e accuratezza.\nTest di significatività definizione ipotesi nulla H0 e ipotesi alternativa H1. Errori di I e II tipo.\nTeoria dei piccoli campioni: distribuzione t di Student.\nTest t: confronto con valore noto e confronto tra le medie di due campioni.\nVerifica della precisione Test F.\nVerifica della distribuzione normale: Test di Shapiro-Wilk.\nIndividuazione di dati anomali: Test di Dixon\, Grubbs.\nVerifica compatibilità di dati provenienti da popolazioni differenti: test ANOVA.\nRegressione e correlazione. Metodo dei minimi quadrati.\n\n  \nIl corso si svolgerà in FAD (Formazione A Distanza) tramite la piattaforma GoToMeeting. \nE’ richiesta la disponibilità di un computer con telecamera\, microfono e una connessione dati stabile. All’atto della conferma di iscrizione verranno forniti i dettagli per raggiungere la piattaforma del corso. \nLe diapositive verranno inviate in formato PDF. \nIl corso avrà inizio alle ore 9\,30 fino alle 13\,30 con una pausa di 20 minuti dove ognuno potrà prepararsi un buon caffè. \n  \nRelatrici: Dr.ssa Marcella Monti e Dr.ssa Raffaella Spisani \n  \nCorso: STAT 0\n \nCliccare per scaricare la scheda di iscrizione
URL:https://www.ultrasci.it/corso/corso-di-formazione-fad-la-statistica-di-base-nei-laboratori-2021-3/
CATEGORIES:Statistica
ATTACH;FMTTYPE=image/png:https://www.ultrasci.it/wp-content/uploads/2021/08/Corso-22-09-2021-PAG.png
END:VEVENT
END:VCALENDAR