BEGIN:VCALENDAR
VERSION:2.0
PRODID:-//Ultra Scientific Italia - ECPv6.10.3//NONSGML v1.0//EN
CALSCALE:GREGORIAN
METHOD:PUBLISH
X-ORIGINAL-URL:https://www.ultrasci.it
X-WR-CALDESC:Eventi per Ultra Scientific Italia
REFRESH-INTERVAL;VALUE=DURATION:PT1H
X-Robots-Tag:noindex
X-PUBLISHED-TTL:PT1H
BEGIN:VTIMEZONE
TZID:Europe/Rome
BEGIN:DAYLIGHT
TZOFFSETFROM:+0100
TZOFFSETTO:+0200
TZNAME:CEST
DTSTART:20210328T010000
END:DAYLIGHT
BEGIN:STANDARD
TZOFFSETFROM:+0200
TZOFFSETTO:+0100
TZNAME:CET
DTSTART:20211031T010000
END:STANDARD
END:VTIMEZONE
BEGIN:VEVENT
DTSTART;TZID=Europe/Rome:20211008T143000
DTEND;TZID=Europe/Rome:20211008T183000
DTSTAMP:20260422T125745
CREATED:20210728T130155Z
LAST-MODIFIED:20210728T130155Z
UID:3598-1633703400-1633717800@www.ultrasci.it
SUMMARY:Corso di Formazione - Requisiti e proposte applicative della norma ISO 13843:2017. Caratterizzazione e verifica dei metodi di prova microbiologici quantitativi applicabili alla matrice acqua
DESCRIPTION:Presentazione:\nIl corso ha lo scopo di illustrare le proposte della nuova ISO 13843:2017 per la validazione di metodi di prova microbiologici quantitativi e per la verifica di metodi di prova normalizzati o comunque già validati.\nIl corso propone fogli di calcolo\, esempi numerici e per la gestione delle attività da pianificare ed eseguire per la caratterizzazione di un nuovo metodo o per la verifica di un metodo di prova validato. \nProgramma:\nGli argomenti che verranno trattati nel corso di formazione saranno i seguenti: \n\nPresentazione del corso e dei concetti di base\nCaratterizzazione e verifica dei metodi di prova\nIndividuazione delle caratteristiche prestazionali di un metodo di prova e loro determinazione\nVerifica dei metodi di prova con individuazione delle attività che il laboratorio deve eseguire per dimostrare la compatibilità delle proprie prestazioni con quelle del metodo\nElaborazione in opportuni fogli di calcolo degli esempi numerici proposti dalla norma ISO 13843\n\n  \nIl corso si svolgerà in FAD (Formazione A Distanza) tramite la piattaforma GoToMeeting. \nE’ richiesta la disponibilità di un computer con telecamera\, che deve essere mantenuta accesa durante tutta la durata del corso\, microfono e una connessione dati stabile. \nAll’atto della conferma di iscrizione verranno forniti i dettagli per raggiungere la piattaforma del corso. \nLe diapositive verranno inviate in formato PDF. Non è consentita la registrazione audio e video del corso. \n  \nLa sessione avrà inizio alle ore 14\,30 fino alle 18\,30 con una pausa di 20 minuti dove ognuno potrà prepararsi un buon caffè. \n  \nRelatrice: Dr.ssa Anna Moschin \n  \nCorso: MICRO 4\nCliccare per scaricare la scheda di iscrizione
URL:https://www.ultrasci.it/corso/corso-di-formazione-requisiti-e-proposte-applicative-della-norma-iso-138432017-2021-2/
CATEGORIES:Microbiologia,Qualità del Dato
ATTACH;FMTTYPE=image/png:https://www.ultrasci.it/wp-content/uploads/2021/07/Corso-08-10-2021-PAG.png
END:VEVENT
BEGIN:VEVENT
DTSTART;TZID=Europe/Rome:20211014T093000
DTEND;TZID=Europe/Rome:20211014T133000
DTSTAMP:20260422T125745
CREATED:20210728T130443Z
LAST-MODIFIED:20210728T130627Z
UID:3601-1634203800-1634218200@www.ultrasci.it
SUMMARY:Corso di Formazione - Validazione e verifica dei metodi di prova chimici
DESCRIPTION:Presentazione:\nIl corso di formazione sulla validazione dei metodi di prova illustra i requisiti necessari per l’emissione dei metodi di prova interni a partire dalla loro progettazione. \nDopo aver analizzato il significato di validazione dei metodi di prova\, ne vengono definiti i parametri fondamentali e viene presentata una procedura generale che possa essere utilizzata dai laboratori per la validazione dei propri metodi interni\, sulla base della tipologia di analisi e della natura del campione. \nVengono inoltre descritte le modalità di verifica dei metodi normati. \nProgramma:\n\nProgettazione dei metodi interni\nDefinizione dei parametri di validazione: limiti di rivelabilità e di quantificazione\, linearità\, sensibilità\, specificità o selettività\, precisione in termini di ripetibilità e riproducibilità\, esattezza\, incertezza di misura\, robustezza\nSignificato dei singoli parametri di validazione e loro modalità di calcolo\nVerifica dei metodi normati\nAssicurazione qualità dei dati\nRiesame della validazione\n\n  \nIl corso si svolgerà in FAD (Formazione A Distanza) tramite la piattaforma GoToMeeting. \nE’ richiesta la disponibilità di un computer con telecamera\, che deve essere mantenuta accesa durante tutta la durata del corso\, microfono e una connessione dati stabile. \nAll’atto della conferma di iscrizione verranno forniti i dettagli per raggiungere la piattaforma del corso. \nLe diapositive verranno inviate in formato PDF. Non è consentita la registrazione audio e video del corso. \n  \nIl corso si svolgerà in 2 mattine il 14 e il 15 Ottobre\n\nLe sessioni avranno inizio alle ore 9\,30 fino alle 13\,30 con una pausa di 20 minuti dove ognuno potrà prepararsi un buon caffè. \n  \nRelatore: Dr.ssa Maria Letizia Davì \n  \nCorso: STAT 3\n \nCliccare per scaricare la scheda di iscrizione
URL:https://www.ultrasci.it/corso/corso-di-formazione-validazione-dei-metodi-di-prova-2020-2/
CATEGORIES:Qualità del Dato,Statistica
ATTACH;FMTTYPE=image/png:https://www.ultrasci.it/wp-content/uploads/2021/07/Corso-14-15-10-2020-PAG.png
END:VEVENT
BEGIN:VEVENT
DTSTART;TZID=Europe/Rome:20211022T143000
DTEND;TZID=Europe/Rome:20211022T183000
DTSTAMP:20260422T125745
CREATED:20210728T131058Z
LAST-MODIFIED:20210728T131058Z
UID:3604-1634913000-1634927400@www.ultrasci.it
SUMMARY:Corso di Formazione - Assicurazione della qualità delle prove microbiologiche
DESCRIPTION:Presentazione:\nIl corso ha lo scopo di fornire indicazioni in merito alla gestione dei dati relativi all’assicurazione della qualità dei risultati di prova in un laboratorio microbiologico. \nIn relazione a quanto previsto nel capitolo 7.7 nella Norma UNI CEI EN ISO/IEC 17025:2018 e nei regolamenti tecnici di ACCREDIA\, il laboratorio deve disporre di una procedura di assicurazione della qualità per la pianificazione e l’effettuazione delle prove\, la valutazione dei risultati\, la gestione della documentazione e delle relative registrazioni. \nI dati risultanti devono essere analizzati in modo che le tendenze siano rilevabili con la finalità di prevenire risultati non corretti e perciò il verificarsi di non conformità. \nIl corso propone fogli di calcolo\, esempi numerici e l’utilizzo di carte di controllo per la gestione e la valutazione dei risultati riguardanti l’assicurazione della qualità del dato. \nNello specifico si prenderanno in considerazione i dati risultanti da: l’utilizzo di materiali di riferimento\, la partecipazione a confronti interlaboratorio\, la ripetizione di prove e il controllo dei mezzi colturali (terreni\, diluenti\, etc.). \nProgramma:\n\nPresentazione del corso e dei riferimenti normativi\nAssicurazione della qualità delle prove in relazione ai requisiti del capitolo 7.7 della Norma UNI CEI EN ISO/IEC 17025:2018 e dei regolamenti tecnici\ndi ACCREDIA\nUtilizzo di materiali di riferimento e gestione dei dati sperimentali per monitorare l’accuratezza del dato\nGestione dei dati di ritorno dalla partecipazione a confronti interlaboratorio e prescrizioni ACCREDIA (documento RT-24)\nQualifica ed mantenimento degli operatori abilitati all’esecuzione delle prove\nControllo dei mezzi colturali preparati dal laboratorio o acquistati pronti all’uso\, in riferimento ai requisiti proposti dalla norma internazionale ISO 11133:2014\nCostruzione di carte di controllo per il monitoraggio dei risultati ottenuti dalla qualifica dell’operatore\, dal controllo dei terreni di coltura\, dai dati di ritorno dei circuiti interlaboratorio\, dall’utilizzo di materiali di riferimento\, etc..\n\n  \nIl corso si svolgerà in FAD (Formazione A Distanza) tramite la piattaforma GoToMeeting. \nE’ richiesta la disponibilità di un computer con telecamera\, che deve essere mantenuta accesa durante tutta la durata del corso\, microfono e una connessione dati stabile. \nAll’atto della conferma di iscrizione verranno forniti i dettagli per raggiungere la piattaforma del corso. \nLe diapositive verranno inviate in formato PDF. Non è consentita la registrazione audio e video del corso. \n  \nIl corso si svolgerà il 22 Ottobre\n\nLa sessione avrà inizio alle ore 14\,30 fino alle 18\,30 con una pausa di 20 minuti dove ognuno potrà prepararsi un buon caffè. \n  \nRelatrice: Dr.ssa Anna Moschin \n  \nCorso: MICRO 3\n \nCliccare per scaricare la scheda di iscrizione
URL:https://www.ultrasci.it/corso/corso-di-formazione-assicurazione-della-qualita-delle-prove-microbiologiche-2021-2/
CATEGORIES:Microbiologia
ATTACH;FMTTYPE=image/png:https://www.ultrasci.it/wp-content/uploads/2021/07/Corso-22-10-2021-PAG.png
END:VEVENT
END:VCALENDAR