BEGIN:VCALENDAR
VERSION:2.0
PRODID:-//Ultra Scientific Italia - ECPv6.10.3//NONSGML v1.0//EN
CALSCALE:GREGORIAN
METHOD:PUBLISH
X-WR-CALNAME:Ultra Scientific Italia
X-ORIGINAL-URL:https://www.ultrasci.it
X-WR-CALDESC:Eventi per Ultra Scientific Italia
REFRESH-INTERVAL;VALUE=DURATION:PT1H
X-Robots-Tag:noindex
X-PUBLISHED-TTL:PT1H
BEGIN:VTIMEZONE
TZID:Europe/Rome
BEGIN:DAYLIGHT
TZOFFSETFROM:+0100
TZOFFSETTO:+0200
TZNAME:CEST
DTSTART:20210328T010000
END:DAYLIGHT
BEGIN:STANDARD
TZOFFSETFROM:+0200
TZOFFSETTO:+0100
TZNAME:CET
DTSTART:20211031T010000
END:STANDARD
END:VTIMEZONE
BEGIN:VEVENT
DTSTART;TZID=Europe/Rome:20211108T093000
DTEND;TZID=Europe/Rome:20211108T133000
DTSTAMP:20260422T100516
CREATED:20210924T143722Z
LAST-MODIFIED:20210924T143722Z
UID:3707-1636363800-1636378200@www.ultrasci.it
SUMMARY:Corso di Formazione - Incertezza di Misura: approcci alternativi al calcolo dell'incertezza e confronto tra la ISO 11352:2012 e il metodo metrologico
DESCRIPTION:Presentazione:\nVerranno trattati approcci alternativi al calcolo dell’incertezza di misura e si farà un confronto tra la ISO 11352:2012 e l’approccio metrologico. \nI metodi tradizionali per stimare l’Incertezza di Misura\, mediante approccio “bottom-up”\, mirano a stimare il contributo individuale di ogni fase del processo all’incertezza complessiva.\nQuesto approccio può essere dispendioso in termini di tempo da applicare alle prove di laboratorio e tuttavia consente all’analista di identificare le fasi critiche di un metodo ed è utile per la sua ottimizzazione. Alcune fonti di errore\, però\, non sono sempre stimabili. \nL’approccio “top-down” stima direttamente l’incertezza di misura valutando i dati del controllo di qualità (QC) o i dati degli esperimenti di verifica del metodo. Tale approccio è più pratico e conveniente e può essere aggiornato man mano che si rendono disponibili ulteriori dati attraverso i risultati del controllo di qualità interno di routine e dei proficiency test. \nSi sottolinea che non si riscontrano differenze statisticamente significative tra i valori di incertezza ottenuti con entrambi gli approcci\, se correttamente applicati. \nProgramma:\nIncertezza di misura: \n\nApproccio bottom-up (metodo metrologico)\nApproccio top-down (ISO 11352 e linee guida collegate)\nEsempio di calcolo parallelo con entrambi gli approcci\n\n  \nIl corso si svolgerà in FAD (Formazione A Distanza) tramite la piattaforma GoToMeeting. \nE’ richiesta la disponibilità di un computer con telecamera\, che deve essere mantenuta accesa durante tutta la durata del corso\, microfono e una connessione dati stabile. \nAll’atto della conferma di iscrizione verranno forniti i dettagli per raggiungere la piattaforma del corso. \nLe diapositive verranno inviate in formato PDF. Non è consentita la registrazione audio e video del corso. \nIl corso avrà inizio alle ore 9\,30 fino alle 13\,30 con una pausa di 20 minuti dove ognuno potrà prepararsi un buon caffè. \n  \nRelatore: Dr. Giuseppe Orlando \n  \nCorso: STAT 5\n \nCliccare per scaricare la scheda di iscrizione
URL:https://www.ultrasci.it/corso/corso-di-formazione-approcci-alternativi-al-calcolo-dell-incertezza-di-misura/
CATEGORIES:Qualità del Dato,Statistica
ATTACH;FMTTYPE=image/png:https://www.ultrasci.it/wp-content/uploads/2021/09/Corso-08-11-2021-PAG.png
END:VEVENT
BEGIN:VEVENT
DTSTART;TZID=Europe/Rome:20211117T153000
DTEND;TZID=Europe/Rome:20211117T183000
DTSTAMP:20260422T100516
CREATED:20210308T163834Z
LAST-MODIFIED:20210825T151656Z
UID:3497-1637163000-1637173800@www.ultrasci.it
SUMMARY:Corso di Formazione - Approccio per processi ed UNI CEI EN ISO/IEC 17025:2018 nei laboratori di prova. Quale approccio operativo?
DESCRIPTION:Presentazione:\nIl corso ha lo scopo di introdurre varie tecniche operative relative all’applicazione dell’approccio per processi in conformità alla UNI CEI EN ISO/IEC 17025:2018 nei laboratori di prova. \nPartendo da casi reali\, saranno affrontate le seguenti applicazioni pratiche dell’approccio per processi: identificazione e definizione dei macroprocessi – processi – sottoprocessi – attività\, il macroprocesso analitico\, indicatori di performance (KPI) e piano degli obiettivi per la qualità. \nApproccio per processi e miglioramento continuo: come fare? \n  \nProgramma:\nGli argomenti che verranno trattati nel corso di formazione saranno i seguenti: \n\nStruttura UNI CEI EN ISO/IEC 17025:2018 (RT-08 Rev.04 Accredia) e correlazione con l’approccio per processi;\nAnalisi delle diverse metodologie applicabili dell’approccio per processi;\nFocus su applicazioni pratiche\, elementi di complessità da evitare;\nRegistrazioni tecniche ed approccio per processi\, come gestirle?\nApplicazioni ed esempi pratici.\n\n  \nIl corso si svolgerà in FAD (Formazione A Distanza) tramite la piattaforma GoToMeeting. \nE’ richiesta la disponibilità di un computer con telecamera\, che deve essere mantenuta accesa durante tutta la durata del corso\, microfono e una connessione dati stabile. \nAll’atto della conferma di iscrizione verranno forniti i dettagli per raggiungere la piattaforma del corso. \nLe diapositive verranno inviate in formato PDF. Non è consentita la registrazione audio e video del corso. \n  \nIl corso si svolgerà in 2 pomeriggi il 17 e il 18 Novembre\n\nLa sessione avranno inizio alle ore 15\,30 fino alle 18\,30 con una pausa di 20 minuti dove ognuno potrà prepararsi un buon caffè. \n  \nRelatore: Dr. Denis Brazzo\n \n  \nCorso: GEST 5\n \nCliccare per scaricare la scheda di iscrizione
URL:https://www.ultrasci.it/corso/corso-di-formazione-approccio-per-processi-ed-uni-cei-en-iso-iec-170252018-2021/
CATEGORIES:Qualità del Dato
ATTACH;FMTTYPE=image/png:https://www.ultrasci.it/wp-content/uploads/2021/08/Corso-17-18-11-2021-PAG.png
END:VEVENT
END:VCALENDAR