BEGIN:VCALENDAR
VERSION:2.0
PRODID:-//Ultra Scientific Italia - ECPv6.10.3//NONSGML v1.0//EN
CALSCALE:GREGORIAN
METHOD:PUBLISH
X-ORIGINAL-URL:https://www.ultrasci.it
X-WR-CALDESC:Eventi per Ultra Scientific Italia
REFRESH-INTERVAL;VALUE=DURATION:PT1H
X-Robots-Tag:noindex
X-PUBLISHED-TTL:PT1H
BEGIN:VTIMEZONE
TZID:Europe/Rome
BEGIN:DAYLIGHT
TZOFFSETFROM:+0100
TZOFFSETTO:+0200
TZNAME:CEST
DTSTART:20220327T010000
END:DAYLIGHT
BEGIN:STANDARD
TZOFFSETFROM:+0200
TZOFFSETTO:+0100
TZNAME:CET
DTSTART:20221030T010000
END:STANDARD
END:VTIMEZONE
BEGIN:VEVENT
DTSTART;TZID=Europe/Rome:20220217T093000
DTEND;TZID=Europe/Rome:20220217T133000
DTSTAMP:20260422T032054
CREATED:20220118T092609Z
LAST-MODIFIED:20220118T092837Z
UID:7661-1645090200-1645104600@www.ultrasci.it
SUMMARY:Corso di Formazione - Assicurazione qualità dei dati e qualifica degli operatori: monitoraggio con carte di controllo di Shewhart
DESCRIPTION:Presentazione:\nAttraverso l’approfondimento delle carte di controllo\, il corso illustrerà le modalità di assicurazione qualità del dato e di mantenimento della qualifica degli operatori addetti alle prove con verifica della ripetibilità e dell’esattezza. \nAl fine di monitorare i risultati ottenuti ed individuare eventuali linee di tendenza vengono descritte le modalità operative per la costruzione di diversi tipi di carte di controllo di Shewhart e vengono forniti gli elementi necessari per analizzarne ed interpretarne i risultati in base a quanto previsto dalla norma ISO 7870-2:2013. \nLa parte teorica è integrata con esercitazioni pratiche\, relative ad esempi tratti dall’attività analitica routinaria\, svolte mediante utilizzo di fogli di calcolo che saranno consegnati al termine del corso. \nVerranno inoltre introdotte le carte di controllo costruite con l’approccio suggerito dal documento NORDTEST NT TR 569. \nProgramma:\nPARTE TEORICA \n\ncontrollo del processo analitico\ntipi di carte: carta di Shewhart per singole osservazioni e dell’escursione mobile\, carta di Shewhart delle medie e\ncarta del range\ninterpretazione delle carte di controllo: regole di Westgard\ncarte di controllo con approccio NORDTEST NT TR 569\n\nESERCITAZIONI \n\ncontrollo della taratura di una bilancia analitica\ncontrollo della risposta strumentale mediante materiali di riferimento\ncontrollo del bianco reattivi nell’analisi spettrofotometrica\ncontrollo dell’esattezza del metodo mediante campioni incrementati\n\n  \nIl corso si svolgerà in FAD (Formazione A Distanza) tramite la piattaforma GoToMeeting. \nE’ richiesta la disponibilità di un computer con telecamera\, che deve essere mantenuta accesa durante tutta la durata del corso\, microfono e una connessione dati stabile. \nAll’atto della conferma di iscrizione verranno forniti i dettagli per raggiungere la piattaforma del corso. \nLe diapositive verranno inviate in formato PDF. Non è consentita la registrazione audio e video del corso. \n  \nIl corso si svolgerà in 2 mattine il 17 e il 18 Fabbraio\n\nLe sessioni avranno inizio alle ore 9\,30 fino alle 13\,30 con una pausa di 20 minuti dove ognuno potrà prepararsi un buon caffè. \n  \nRelatore: Dr.ssa Maria Letizia Davì e Dr.ssa Raffaella Spisani \n  \nCorso: CC 2\n \nCliccare per scaricare la scheda di iscrizione
URL:https://www.ultrasci.it/corso/assicurazione-di-qualita-dati-e-qualifica-degli-operatori-2022/
CATEGORIES:Qualità del Dato,Statistica
ATTACH;FMTTYPE=image/png:https://www.ultrasci.it/wp-content/uploads/2022/01/Corso-17-e-18-02-2022-PAG.png
END:VEVENT
BEGIN:VEVENT
DTSTART;TZID=Europe/Rome:20220224T093000
DTEND;TZID=Europe/Rome:20220224T133000
DTSTAMP:20260422T032054
CREATED:20220118T094405Z
LAST-MODIFIED:20220214T142500Z
UID:7666-1645695000-1645709400@www.ultrasci.it
SUMMARY:Corso di Formazione - Emissioni in atmosfera: corso base per l’esecuzione delle misurazioni periodiche
DESCRIPTION:Presentazione:\nIl corso è diretto ai tecnici coinvolti nelle attività di controllo periodico dei flussi gassosi convogliati (emissioni in atmosfera). \nÈ inteso principalmente quale corso introduttivo per il personale operativo\, ma tratta argomenti d’interesse per le figure coinvolte nelle fasi di pianificazione delle attività e di presentazione dei risultati. \nProgramma:\n24 Febbraio – 1° Giornata: \nbreve inquadramento normativo e finalità delle misurazioni periodiche; \ncaratterizzazione delle emissioni (Manuale Unichim 158); \nvalutazione della sezione di campionamento (EN 15259); \nimportanza del campionamento isocinetico; \ncriteri per la verifica di conformità; \nla normalizzazione dei risultati. \n25 Febbraio – 2°Giornata: \nprincipali metodi di riferimento pubblicati dal CEN e la selezione di metodi alternativi; \ni princìpi delle tecniche strumentali di riferimento (velocità\, ossigeno\, COV\, ossidi di combustione); \nla redazione dei rapporti di prova; \nalcune considerazioni sull’incertezza di misura. \n  \nIl corso si svolgerà in FAD (Formazione A Distanza) tramite la piattaforma GoToMeeting. \nE’ richiesta la disponibilità di un computer con telecamera\, che deve essere mantenuta accesa durante tutta la durata del corso\, microfono e una connessione dati stabile. \nAll’atto della conferma di iscrizione verranno forniti i dettagli per raggiungere la piattaforma del corso. \nLe diapositive verranno inviate in formato PDF. Non è consentita la registrazione audio e video del corso. \n  \nIl corso si svolgerà in 2 mattine il 24 e il 25 Febbraio\n\nLe sessioni avranno inizio alle ore 9\,30 fino alle 13\,30 con una pausa di 20 minuti dove ognuno potrà prepararsi un buon caffè. \n  \nRelatore: Dr. Fulvio Borrino \n  \nCorso: EMI\n \nCliccare per scaricare la scheda di iscrizione
URL:https://www.ultrasci.it/corso/corso-di-formazione-emissioni-in-atmosfera-corso-base-per-l-esecuzione-delle-misurazioni-periodiche-2022/
CATEGORIES:Emissioni e Ambienti di Lavoro
ATTACH;FMTTYPE=image/png:https://www.ultrasci.it/wp-content/uploads/2022/02/Corso-24-e-25-02-2022-SO-PAG.png
END:VEVENT
END:VCALENDAR