BEGIN:VCALENDAR
VERSION:2.0
PRODID:-//Ultra Scientific Italia - ECPv6.10.3//NONSGML v1.0//EN
CALSCALE:GREGORIAN
METHOD:PUBLISH
X-WR-CALNAME:Ultra Scientific Italia
X-ORIGINAL-URL:https://www.ultrasci.it
X-WR-CALDESC:Eventi per Ultra Scientific Italia
REFRESH-INTERVAL;VALUE=DURATION:PT1H
X-Robots-Tag:noindex
X-PUBLISHED-TTL:PT1H
BEGIN:VTIMEZONE
TZID:Europe/Rome
BEGIN:DAYLIGHT
TZOFFSETFROM:+0100
TZOFFSETTO:+0200
TZNAME:CEST
DTSTART:20220327T010000
END:DAYLIGHT
BEGIN:STANDARD
TZOFFSETFROM:+0200
TZOFFSETTO:+0100
TZNAME:CET
DTSTART:20221030T010000
END:STANDARD
END:VTIMEZONE
BEGIN:VEVENT
DTSTART;TZID=Europe/Rome:20220405T093000
DTEND;TZID=Europe/Rome:20220405T133000
DTSTAMP:20260422T004530
CREATED:20220301T133900Z
LAST-MODIFIED:20220301T133900Z
UID:8131-1649151000-1649165400@www.ultrasci.it
SUMMARY:Corso di Formazione - Guida essenziale all'accreditamento dei laboratori secondo la Norma UNI CEI EN ISO/IEC 17025:2018
DESCRIPTION:Presentazione:\nQuesto corso è rivolto ai laboratori che si stanno approcciando all’accreditamento.\nSi tratta di un corso introduttivo\, rivolto a chi intende conoscerne gli elementi fondamentali: \n\nstruttura\,\nobiettivi\,\nprincìpi\,\nrequisiti principali della norma di riferimento\n\nGrazie all’esperienza del dr. Borrino\, abbiamo preparato una mattinata intensa che potrà fornire un solido punto di partenza per affrontare questo percorso pieno di insidie. \n  \nIl corso è GRATUITO. \nSi svolgerà in FAD (Formazione A Distanza) tramite la piattaforma GoToMeeting. I posti sono limitati. \nE’ richiesta la disponibilità di un computer con telecamera\, che deve essere mantenuta accesa durante tutta la durata del corso\, microfono e una connessione dati stabile. \nAll’atto della conferma di iscrizione verranno forniti i dettagli per raggiungere la piattaforma del corso. \nLe diapositive verranno inviate in formato PDF. Non è consentita la registrazione audio e video del corso. \n  \nLa sessione avrà inizio alle ore 9\,30 fino alle 13\,30 con una pausa di 20 minuti dove ognuno potrà prepararsi un buon caffè. \n  \nRelatore: Dr. Fulvio Borrino \n  \nCorso: QUAL 4\n \nCliccare per scaricare la scheda di iscrizione
URL:https://www.ultrasci.it/corso/corso-di-formazione-guida-essenziale-all-accreditamento-2022-1/
CATEGORIES:Qualità del Dato
ATTACH;FMTTYPE=image/png:https://www.ultrasci.it/wp-content/uploads/2022/03/Corso-05-04-2022-PAG.png
END:VEVENT
BEGIN:VEVENT
DTSTART;TZID=Europe/Rome:20220408T093000
DTEND;TZID=Europe/Rome:20220408T133000
DTSTAMP:20260422T004530
CREATED:20220118T102900Z
LAST-MODIFIED:20220228T104207Z
UID:7677-1649410200-1649424600@www.ultrasci.it
SUMMARY:Corso di Formazione - La determinazione degli Idrocarburi totali nelle matrici ambientali
DESCRIPTION:Presentazione:\nDurante il corso verranno analizzati diversi metodi per la determinazione degli idrocarburi in matrici ambientali. \nNello specifico verranno trattati i metodi: \n\nEPA 8015\nUNI EN 14039\nISO 16703\nISO 9377-2\n\nProgramma:\n\nLa gestione del GC-FID e la sua conferma metrologica\nIl problema della definizione del parametro “idrocarburi”: linee guida e metodi ISPRA\nMetodo EPA 8015: contenuti e collegamenti con l’impianto deimetodi presenti nell’SW 846\nMetodo ISO 16703:2004: determinazione degli Idrocarburi (C10-C40) nel suolo\nMetodo UNI EN 14039:2005: determinazione degli Idrocarburi (C10-C40) nei rifiuti\nMetodo UNI EN ISO 9377-2 2002: determinazione degli idrocarburi(C10-C40) nelle acque\n\n  \nIl corso si svolgerà in FAD (Formazione A Distanza) tramite la piattaforma GoToMeeting. \nE’ richiesta la disponibilità di un computer con telecamera\, che deve essere mantenuta accesa durante tutta la durata del corso\, microfono e una connessione dati stabile. \nAll’atto della conferma di iscrizione verranno forniti i dettagli per raggiungere la piattaforma del corso. \nLe diapositive verranno inviate in formato PDF. Non è consentita la registrazione audio e video del corso. \n  \nLa sessione avrà inizio alle ore 9\,30 fino alle 13\,30 con una pausa di 20 minuti dove ognuno potrà prepararsi un buon caffè. \n  \nRelatrice: Dr. Giuseppe Orlando \n  \nCorso: IDROC\n \nCliccare per scaricare la scheda di iscrizione
URL:https://www.ultrasci.it/corso/corso-di-formazione-determinazione-degli-idrocarburi-totali-nelle-matrici-ambientali-2022/
CATEGORIES:Metodi Analitici
ATTACH;FMTTYPE=image/png:https://www.ultrasci.it/wp-content/uploads/2022/01/Corso-8-04-2022-PAG.png
END:VEVENT
BEGIN:VEVENT
DTSTART;TZID=Europe/Rome:20220408T143000
DTEND;TZID=Europe/Rome:20220408T183000
DTSTAMP:20260422T004530
CREATED:20220214T142128Z
LAST-MODIFIED:20220214T142128Z
UID:8010-1649428200-1649442600@www.ultrasci.it
SUMMARY:Corso di Formazione - Requisiti e proposte applicative della norma ISO 13843:2017. Caratterizzazione e verifica dei metodi di prova microbiologici quantitativi applicabili alla matrice acqua
DESCRIPTION:Presentazione:\nIl corso ha lo scopo di illustrare le proposte della nuova ISO 13843:2017 per la validazione di metodi di prova microbiologici quantitativi e per la verifica di metodi di prova normalizzati o comunque già validati.\nIl corso propone fogli di calcolo\, esempi numerici e per la gestione delle attività da pianificare ed eseguire per la caratterizzazione di un nuovo metodo o per la verifica di un metodo di prova validato. \nProgramma:\nGli argomenti che verranno trattati nel corso di formazione saranno i seguenti: \n\nPresentazione del corso e dei concetti di base\nCaratterizzazione e verifica dei metodi di prova\nIndividuazione delle caratteristiche prestazionali di un metodo di prova e loro determinazione\nVerifica dei metodi di prova con individuazione delle attività che il laboratorio deve eseguire per dimostrare la compatibilità delle proprie prestazioni con quelle del metodo\nElaborazione in opportuni fogli di calcolo degli esempi numerici proposti dalla norma ISO 13843\n\n  \nIl corso si svolgerà in FAD (Formazione A Distanza) tramite la piattaforma GoToMeeting. \nE’ richiesta la disponibilità di un computer con telecamera\, che deve essere mantenuta accesa durante tutta la durata del corso\, microfono e una connessione dati stabile. \nAll’atto della conferma di iscrizione verranno forniti i dettagli per raggiungere la piattaforma del corso. \nLe diapositive verranno inviate in formato PDF. Non è consentita la registrazione audio e video del corso. \n  \nLa sessione avrà inizio alle ore 14\,30 fino alle 18\,30 con una pausa di 20 minuti dove ognuno potrà prepararsi un buon caffè. \n  \nRelatrice: Dr.ssa Anna Moschin \n  \nCorso: MICRO 4\nCliccare per scaricare la scheda di iscrizione
URL:https://www.ultrasci.it/corso/corso-di-formazione-requisiti-e-proposte-applicative-della-norma-iso-138432017-2022/
CATEGORIES:Microbiologia,Qualità del Dato
ATTACH;FMTTYPE=image/png:https://www.ultrasci.it/wp-content/uploads/2022/02/Corso-08-04-2022-PAG.png
END:VEVENT
BEGIN:VEVENT
DTSTART;TZID=Europe/Rome:20220428T093000
DTEND;TZID=Europe/Rome:20220428T133000
DTSTAMP:20260422T004530
CREATED:20220301T132531Z
LAST-MODIFIED:20220301T132531Z
UID:8128-1651138200-1651152600@www.ultrasci.it
SUMMARY:Corso di Formazione - Campionamento di rifiuti - Norma UNI 10802 e sua corretta applicazione
DESCRIPTION:Presentazione:\nIl corso approfondirà la Norma UNI 10802 e sua corretta applicazione. E’ diretto ai responsabili della pianificazione delle attività di campionamento dei rifiuti e ai tecnici qualificati per l’esecuzione di tali attività. \nProgramma:\n28 Aprile – 1° Giornata: \n\nriferimenti tecnici (EN 14899 e CEN/TR 15310-1)\naspetti normativi rilevanti il piano di campionamento\nselezione dell’approccio di campionamento\n\n29 Aprile – 2°Giornata: \n\nidentificazione e descrizione delle tecniche di campionamento\nmetodi di riduzione dimensionale dei campioni\ngestione dei campioni di laboratorio\nla documentazione del campionamento\nesempi di applicazione tratti dal rapporto tecnico UNI/TR 11682\n\n  \nIl corso si svolgerà in FAD (Formazione A Distanza) tramite la piattaforma GoToMeeting. \nE’ richiesta la disponibilità di un computer con telecamera\, che deve essere mantenuta accesa durante tutta la durata del corso\, microfono e una connessione dati stabile. \nAll’atto della conferma di iscrizione verranno forniti i dettagli per raggiungere la piattaforma del corso. \nLe diapositive verranno inviate in formato PDF. Non è consentita la registrazione audio e video del corso. \n  \nIl corso si svolgerà in 2 mattine il 28 e 29 Aprile\n\nLe sessioni avranno inizio alle ore 9\,30 fino alle 13\,30 con una pausa di 20 minuti dove ognuno potrà prepararsi un buon caffè. \n  \nRelatore: Dr. Fulvio Borrino \n  \nCorso: RIF 5\n \nCliccare per scaricare la scheda di iscrizione
URL:https://www.ultrasci.it/corso/corso-di-formazione-campionamento-di-rifiuti-norma-uni-10802-2022/
CATEGORIES:Rifiuti
ATTACH;FMTTYPE=image/png:https://www.ultrasci.it/wp-content/uploads/2022/03/Corso-28-e-29-04-2022-PAG.png
END:VEVENT
END:VCALENDAR