BEGIN:VCALENDAR
VERSION:2.0
PRODID:-//Ultra Scientific Italia - ECPv6.10.3//NONSGML v1.0//EN
CALSCALE:GREGORIAN
METHOD:PUBLISH
X-WR-CALNAME:Ultra Scientific Italia
X-ORIGINAL-URL:https://www.ultrasci.it
X-WR-CALDESC:Eventi per Ultra Scientific Italia
REFRESH-INTERVAL;VALUE=DURATION:PT1H
X-Robots-Tag:noindex
X-PUBLISHED-TTL:PT1H
BEGIN:VTIMEZONE
TZID:Europe/Rome
BEGIN:DAYLIGHT
TZOFFSETFROM:+0100
TZOFFSETTO:+0200
TZNAME:CEST
DTSTART:20220327T010000
END:DAYLIGHT
BEGIN:STANDARD
TZOFFSETFROM:+0200
TZOFFSETTO:+0100
TZNAME:CET
DTSTART:20221030T010000
END:STANDARD
END:VTIMEZONE
BEGIN:VEVENT
DTSTART;TZID=Europe/Rome:20221108T093000
DTEND;TZID=Europe/Rome:20221108T133000
DTSTAMP:20260421T104411
CREATED:20220502T124138Z
LAST-MODIFIED:20220720T133609Z
UID:8813-1667899800-1667914200@www.ultrasci.it
SUMMARY:Corso di Formazione - Misurazione di agenti chimici aerodispersi
DESCRIPTION:Presentazione:\nIl corso è diretto ai tecnici coinvolti nella pianificazione e nella esecuzione di campagne di monitoraggio di agenti chimici aerodispersi negli ambienti di lavoro nonché ai professionisti coinvolti in qualità di valutatori nel processo definito dalla norma EN 689. \nProgramma:\n8 Novembre – 1° Giornata: \n\ncontesto normativo\nrequisiti generali dei metodi di prova (EN 482)\ntecniche di campionamento diretto e indiretto\ncampionamento passivo e attivo; analisi diretta (EN 1231)\n\n9 Novembre – 2°Giornata: \n\naerosol e convenzioni di campionamento (EN 481)\ncampionamento di fibre\ncenni sul campionamento dei bioaerosol\npianificazione delle misurazioni secondo EN 689:2019\nil resoconto di misurazione.\n\n  \nIl corso si svolgerà in FAD (Formazione A Distanza) tramite la piattaforma GoToMeeting. \nE’ richiesta la disponibilità di un computer con telecamera\, che deve essere mantenuta accesa durante tutta la durata del corso\, microfono e una connessione dati stabile. \nAll’atto della conferma di iscrizione verranno forniti i dettagli per raggiungere la piattaforma del corso. \nLe diapositive verranno inviate in formato PDF. Non è consentita la registrazione audio e video del corso. \n  \nIl corso si svolgerà in 2 mattine l’8 e 9 Novembre\n\nLe sessioni avranno inizio alle ore 9\,30 fino alle 13\,30 con una pausa di 20 minuti dove ognuno potrà prepararsi un buon caffè. \n  \nRelatore: Dr. Fulvio Borrino \n  \nCorso: EMI 2\n \nCliccare per scaricare la scheda di iscrizione
URL:https://www.ultrasci.it/corso/corso-di-formazione-misurazione-agenti-chimici-aerodispersi-2022/
CATEGORIES:Emissioni e Ambienti di Lavoro
ATTACH;FMTTYPE=image/png:https://www.ultrasci.it/wp-content/uploads/2022/04/Corso-8-e-9-11-2022-PAG.png
END:VEVENT
BEGIN:VEVENT
DTSTART;TZID=Europe/Rome:20221115T093000
DTEND;TZID=Europe/Rome:20221115T133000
DTSTAMP:20260421T104411
CREATED:20220720T134058Z
LAST-MODIFIED:20220720T134058Z
UID:9400-1668504600-1668519000@www.ultrasci.it
SUMMARY:Corso di Formazione - Campionamento di rifiuti - Norma UNI 10802 e sua corretta applicazione
DESCRIPTION:Presentazione:\nIl corso approfondirà la Norma UNI 10802 e sua corretta applicazione. E’ diretto ai responsabili della pianificazione delle attività di campionamento dei rifiuti e ai tecnici qualificati per l’esecuzione di tali attività. \nProgramma:\n15 Novembre – 1° Giornata: \n\nriferimenti tecnici (EN 14899 e CEN/TR 15310-1)\naspetti normativi rilevanti il piano di campionamento\nselezione dell’approccio di campionamento\n\n16 Novembre – 2°Giornata: \n\nidentificazione e descrizione delle tecniche di campionamento\nmetodi di riduzione dimensionale dei campioni\ngestione dei campioni di laboratorio\nla documentazione del campionamento\nesempi di applicazione tratti dal rapporto tecnico UNI/TR 11682\n\n  \nIl corso si svolgerà in FAD (Formazione A Distanza) tramite la piattaforma GoToMeeting. \nE’ richiesta la disponibilità di un computer con telecamera\, che deve essere mantenuta accesa durante tutta la durata del corso\, microfono e una connessione dati stabile. \nAll’atto della conferma di iscrizione verranno forniti i dettagli per raggiungere la piattaforma del corso. \nLe diapositive verranno inviate in formato PDF. Non è consentita la registrazione audio e video del corso. \n  \nIl corso si svolgerà in 2 mattine il 15 e 16 Novembre\n\nLe sessioni avranno inizio alle ore 9\,30 fino alle 13\,30 con una pausa di 20 minuti dove ognuno potrà prepararsi un buon caffè. \n  \nRelatore: Dr. Fulvio Borrino \n  \nCorso: RIF 5\n \nCliccare per scaricare la scheda di iscrizione
URL:https://www.ultrasci.it/corso/corso-di-formazione-campionamento-di-rifiuti-norma-uni-10802-2022-2/
CATEGORIES:Rifiuti
ATTACH;FMTTYPE=image/png:https://www.ultrasci.it/wp-content/uploads/2022/07/Corso-15-e-16-11-2022-PAG.png
END:VEVENT
BEGIN:VEVENT
DTSTART;TZID=Europe/Rome:20221116T143000
DTEND;TZID=Europe/Rome:20221116T183000
DTSTAMP:20260421T104411
CREATED:20220719T160922Z
LAST-MODIFIED:20220907T153957Z
UID:9377-1668609000-1668623400@www.ultrasci.it
SUMMARY:Corso di Formazione - Calcolo dell’incertezza di misura da associare alle prove microbiologiche
DESCRIPTION:Presentazione:\nIl corso ha lo scopo di presentare le modalità di calcolo dell’incertezza di misura da associare alle prove microbiologiche su campioni di alimenti e di acqua. \nSi illustreranno gli approcci di calcolo dell’incertezza di misura descritti nelle norme ISO 19036:2019 e ISO 29201:2012. \nDurante il corso verranno proposti fogli di calcolo ed esempi numerici relativi all’applicazione delle suddette norme. \nProgramma:\n\nIl calcolo dell’incertezza di misura per le prove microbiologiche sugli alimenti secondo quanto proposto nella norma ISO 19036:2019\nIl calcolo dell’incertezza di misura per le prove microbiologiche sulla matrice acqua secondo quanto proposto nella norma ISO 29201:2012\nUtilizzo di fogli di calcolo elettronici per il calcolo dell’incertezza di misura\nValutazione dei dati sperimentali mediante test statistici\nAssicurazione qualità del dato analitico\n\n  \nIl corso si svolgerà in FAD (Formazione A Distanza) tramite la piattaforma GoToMeeting. \nE’ richiesta la disponibilità di un computer con telecamera\, che deve essere mantenuta accesa durante tutta la durata del corso\, microfono e una connessione dati stabile. \nAll’atto della conferma di iscrizione verranno forniti i dettagli per raggiungere la piattaforma del corso. \nLe diapositive verranno inviate in formato PDF. Non è consentita la registrazione audio e video del corso. \n  \nIl corso si svolgerà in 2 pomeriggi il 16 e 30 Novembre\n\nLa sessione avrà inizio alle ore 14\,30 fino alle 18\,30 con una pausa di 20 minuti dove ognuno potrà prepararsi un buon caffè. \n  \nRelatrice: Dr.ssa Anna Moschin \n  \nCorso: MICRO 2\n \nCliccare per scaricare la scheda di iscrizione
URL:https://www.ultrasci.it/corso/corso-di-formazione-calcolo-incertezza-delle-prove-microbiologiche-2022-2/
CATEGORIES:Microbiologia
ATTACH;FMTTYPE=image/png:https://www.ultrasci.it/wp-content/uploads/2022/09/Corso-16-e-30-11-2022-PAG.png
END:VEVENT
END:VCALENDAR