BEGIN:VCALENDAR
VERSION:2.0
PRODID:-//Ultra Scientific Italia - ECPv6.10.3//NONSGML v1.0//EN
CALSCALE:GREGORIAN
METHOD:PUBLISH
X-ORIGINAL-URL:https://www.ultrasci.it
X-WR-CALDESC:Eventi per Ultra Scientific Italia
REFRESH-INTERVAL;VALUE=DURATION:PT1H
X-Robots-Tag:noindex
X-PUBLISHED-TTL:PT1H
BEGIN:VTIMEZONE
TZID:Europe/Rome
BEGIN:DAYLIGHT
TZOFFSETFROM:+0100
TZOFFSETTO:+0200
TZNAME:CEST
DTSTART:20230326T010000
END:DAYLIGHT
BEGIN:STANDARD
TZOFFSETFROM:+0200
TZOFFSETTO:+0100
TZNAME:CET
DTSTART:20231029T010000
END:STANDARD
END:VTIMEZONE
BEGIN:VEVENT
DTSTART;TZID=Europe/Rome:20231103T143000
DTEND;TZID=Europe/Rome:20231103T183000
DTSTAMP:20260420T080850
CREATED:20230725T152311Z
LAST-MODIFIED:20230725T152324Z
UID:9979-1699021800-1699036200@www.ultrasci.it
SUMMARY:Corso di Formazione - Requisiti e proposte applicative della norma ISO 13843:2017. Caratterizzazione e verifica dei metodi di prova microbiologici quantitativi applicabili alla matrice acqua
DESCRIPTION:Presentazione:\nIl corso ha lo scopo di illustrare le proposte della nuova ISO 13843:2017 per la validazione di metodi di prova microbiologici quantitativi e per la verifica di metodi di prova normalizzati o comunque già validati.\nIl corso propone fogli di calcolo\, esempi numerici e per la gestione delle attività da pianificare ed eseguire per la caratterizzazione di un nuovo metodo o per la verifica di un metodo di prova validato. \nProgramma:\nGli argomenti che verranno trattati nel corso di formazione saranno i seguenti: \n\nPresentazione del corso e dei concetti di base\nCaratterizzazione e verifica dei metodi di prova\nIndividuazione delle caratteristiche prestazionali di un metodo di prova e loro determinazione\nVerifica dei metodi di prova con individuazione delle attività che il laboratorio deve eseguire per dimostrare la compatibilità delle proprie prestazioni con quelle del metodo\nElaborazione in opportuni fogli di calcolo degli esempi numerici proposti dalla norma ISO 13843\n\n  \nIl corso si svolgerà in FAD (Formazione A Distanza) tramite la piattaforma GoToMeeting. \nE’ richiesta la disponibilità di un computer con telecamera\, che deve essere mantenuta accesa durante tutta la durata del corso\, microfono e una connessione dati stabile. \nAll’atto della conferma di iscrizione verranno forniti i dettagli per raggiungere la piattaforma del corso. \nLe diapositive verranno inviate in formato PDF. Non è consentita la registrazione audio e video del corso. \n  \nLa sessione avrà inizio alle ore 14\,30 fino alle 18\,30 con una pausa di 20 minuti dove ognuno potrà prepararsi un buon caffè. \n  \nRelatrice: Dr.ssa Anna Moschin \n  \nCorso: MICRO 4\nCliccare per scaricare la scheda di iscrizione
URL:https://www.ultrasci.it/corso/corso-di-formazione-requisiti-e-proposte-applicative-della-norma-iso-138432017-2023-2/
CATEGORIES:Microbiologia,Qualità del Dato
ATTACH;FMTTYPE=image/png:https://www.ultrasci.it/wp-content/uploads/2023/07/Corso-03-11-2023-PAG.png
END:VEVENT
BEGIN:VEVENT
DTSTART;TZID=Europe/Rome:20231114T143000
DTEND;TZID=Europe/Rome:20231114T183000
DTSTAMP:20260420T080850
CREATED:20230725T153320Z
LAST-MODIFIED:20230831T064942Z
UID:9986-1699972200-1699986600@www.ultrasci.it
SUMMARY:Corso di Formazione - Incertezza di misura - Il contributo del campionamento
DESCRIPTION:Presentazione:\nIn tutti i casi in cui un risultato analitico ha lo scopo di rappresentare non semplicemente un campione ricevuto dal laboratorio\, ma una popolazione – un rifiuto in deposito temporaneo\, un corpo idrico\, ecc…  – il laboratorio deve stimare il contributo all’incertezza derivante dal campionamento. \nIl corso è rivolto in particolare al personale coinvolto nella pianificazione delle attività di campionamento e al personale di laboratorio a cui è affidato il compito di stimare l’incertezza di misura da associare ai risultati di prova. \nProgramma:\nGli argomenti che verranno trattati nel corso di formazione saranno i seguenti: \n\nIl campionamento nel processo di misurazione\nIncertezza di campionamento stima secondo l’approccio empirico\nIncertezza di campionamento stima mediante modelli\nEspressione e interpretazione dell’incertezza di campionamento\nIncertezza e pianificazione del campionamento\n\n  \nIl corso si svolgerà in FAD (Formazione A Distanza) tramite la piattaforma GoToMeeting. \nE’ richiesta la disponibilità di un computer con telecamera\, che deve essere mantenuta accesa durante tutta la durata del corso\, microfono e una connessione dati stabile. \nAll’atto della conferma di iscrizione verranno forniti i dettagli per raggiungere la piattaforma del corso. \nLe diapositive verranno inviate in formato PDF. Non è consentita la registrazione audio e video del corso. \n  \nLa sessione avrà inizio alle ore 14\,30 fino alle 18\,30 con una pausa di 20 minuti dove ognuno potrà prepararsi un buon caffè. \n  \nRelatore: Dr. Fulvio Borrino \n  \nCorso: CAMP2\nCliccare per scaricare la scheda di iscrizione
URL:https://www.ultrasci.it/corso/corso-di-formazione-incertezza-di-misura-il-contributo-del-campionamento-2023/
CATEGORIES:Microbiologia,Qualità del Dato
ATTACH;FMTTYPE=image/png:https://www.ultrasci.it/wp-content/uploads/2023/07/Corso-14-11-2023-PAG.png
END:VEVENT
END:VCALENDAR