BEGIN:VCALENDAR
VERSION:2.0
PRODID:-//Ultra Scientific Italia - ECPv6.10.3//NONSGML v1.0//EN
CALSCALE:GREGORIAN
METHOD:PUBLISH
X-ORIGINAL-URL:https://www.ultrasci.it
X-WR-CALDESC:Eventi per Ultra Scientific Italia
REFRESH-INTERVAL;VALUE=DURATION:PT1H
X-Robots-Tag:noindex
X-PUBLISHED-TTL:PT1H
BEGIN:VTIMEZONE
TZID:Europe/Rome
BEGIN:DAYLIGHT
TZOFFSETFROM:+0100
TZOFFSETTO:+0200
TZNAME:CEST
DTSTART:20240331T010000
END:DAYLIGHT
BEGIN:STANDARD
TZOFFSETFROM:+0200
TZOFFSETTO:+0100
TZNAME:CET
DTSTART:20241027T010000
END:STANDARD
END:VTIMEZONE
BEGIN:VEVENT
DTSTART;TZID=Europe/Rome:20240212T143000
DTEND;TZID=Europe/Rome:20240212T183000
DTSTAMP:20260420T035422
CREATED:20231205T161906Z
LAST-MODIFIED:20240129T151619Z
UID:10078-1707748200-1707762600@www.ultrasci.it
SUMMARY:Corso di Formazione - Presentazione della nuova Linea Guida Eurachem 2023. Valutazione dell'incertezza di campionamento
DESCRIPTION:Presentazione:\nIl corso di formazione ha l’obiettivo di illustrare le principali modifiche della nuova Linea Guida Eurachem del 2023\, pubblicata dieci anni dopo la versione del 2013. \nParticolarmente interessante\, per la stima dell’incertezza di misura\, è l’introduzione del calcolo del contributo dovuto all’incertezza di campionamento. \nVerranno illustrate le modalità di calcolo di questo contributo. \nProgramma:\nGli argomenti che verranno trattati nel corso di formazione saranno i seguenti: \n\npresentazione del corso e dei concetti di base\nmodifiche linea Guida Eurachem\ncontributo del campionamento\n\n  \nIl corso si svolgerà in FAD (Formazione A Distanza) tramite la piattaforma GoToMeeting. \nE’ richiesta la disponibilità di un computer con telecamera\, che deve essere mantenuta accesa durante tutta la durata del corso\, microfono e una connessione dati stabile. \nAll’atto della conferma di iscrizione verranno forniti i dettagli per raggiungere la piattaforma del corso. \nLe diapositive verranno inviate in formato PDF. Non è consentita la registrazione audio e video del corso. \n  \nLa sessione avrà inizio alle ore 14\,30 fino alle 18\,30 con una pausa di 20 minuti dove ognuno potrà prepararsi un buon caffè. \n  \nRelatore: Dr.ssa Anna Moschin \n  \nCorso: MICRO7\nCliccare per scaricare la scheda di iscrizione
URL:https://www.ultrasci.it/corso/corso-di-formazione-nuova-linea-guida-eurachem-2023-incertezza-di-campionamento/
CATEGORIES:Microbiologia,Qualità del Dato
ATTACH;FMTTYPE=image/png:https://www.ultrasci.it/wp-content/uploads/2024/01/Corso-12-02-2024-PAG.png
END:VEVENT
BEGIN:VEVENT
DTSTART;TZID=Europe/Rome:20240221T093000
DTEND;TZID=Europe/Rome:20240221T133000
DTSTAMP:20260420T035422
CREATED:20240109T155629Z
LAST-MODIFIED:20240109T155646Z
UID:10131-1708507800-1708522200@www.ultrasci.it
SUMMARY:Corso di Formazione - Validazione e verifica dei metodi di prova chimici
DESCRIPTION:Presentazione:\nIl corso di formazione sulla validazione dei metodi di prova illustra i requisiti necessari per l’emissione dei metodi di prova interni a partire dalla loro progettazione. \nDopo aver analizzato il significato di validazione dei metodi di prova\, ne vengono definiti i parametri fondamentali e viene presentata una procedura generale che possa essere utilizzata dai laboratori per la validazione dei propri metodi interni\, sulla base della tipologia di analisi e della natura del campione. \nVengono inoltre descritte le modalità di verifica dei metodi normati. \nProgramma:\n\nProgettazione dei metodi interni\nDefinizione dei parametri di validazione: limiti di rivelabilità e di quantificazione\, linearità\, sensibilità\, specificità o selettività\, precisione in termini di ripetibilità e riproducibilità\, esattezza\, incertezza di misura\, robustezza\nSignificato dei singoli parametri di validazione e loro modalità di calcolo\nVerifica dei metodi normati\nAssicurazione qualità dei dati\nRiesame della validazione\n\n  \nIl corso si svolgerà in FAD (Formazione A Distanza) tramite la piattaforma GoToMeeting. \nE’ richiesta la disponibilità di un computer con telecamera\, che deve essere mantenuta accesa durante tutta la durata del corso\, microfono e una connessione dati stabile. \nAll’atto della conferma di iscrizione verranno forniti i dettagli per raggiungere la piattaforma del corso. \nLe diapositive verranno inviate in formato PDF. Non è consentita la registrazione audio e video del corso. \n  \nIl corso si svolgerà in 2 mattine il 21 e 22 Febbraio\n\nLe sessioni avranno inizio alle ore 9\,30 fino alle 13\,30 con una pausa di 20 minuti dove ognuno potrà prepararsi un buon caffè. \n  \nRelatore: Dr.ssa Maria Letizia Davì e Dr.ssa Raffaella Spisani \n  \nCorso: STAT 3\n \nCliccare per scaricare la scheda di iscrizione
URL:https://www.ultrasci.it/corso/corso-di-formazione-validazione-dei-metodi-di-prova-2024/
CATEGORIES:Qualità del Dato,Statistica
ATTACH;FMTTYPE=image/png:https://www.ultrasci.it/wp-content/uploads/2024/01/Corso-21-22-02-2024-PAG.png
END:VEVENT
BEGIN:VEVENT
DTSTART;TZID=Europe/Rome:20240223T143000
DTEND;TZID=Europe/Rome:20240223T183000
DTSTAMP:20260420T035422
CREATED:20240109T155929Z
LAST-MODIFIED:20240109T155929Z
UID:10134-1708698600-1708713000@www.ultrasci.it
SUMMARY:Corso di Formazione - Calcolo dell’incertezza di misura da associare alle prove microbiologiche
DESCRIPTION:Presentazione:\nIl corso ha lo scopo di presentare le modalità di calcolo dell’incertezza di misura da associare alle prove microbiologiche su campioni di alimenti e di acqua. \nSi illustreranno gli approcci di calcolo dell’incertezza di misura descritti nelle norme ISO 19036:2019 e ISO 29201:2012. \nDurante il corso verranno proposti fogli di calcolo ed esempi numerici relativi all’applicazione delle suddette norme. \nProgramma:\n\nIl calcolo dell’incertezza di misura per le prove microbiologiche sugli alimenti secondo quanto proposto nella norma ISO 19036:2019\nIl calcolo dell’incertezza di misura per le prove microbiologiche sulla matrice acqua secondo quanto proposto nella norma ISO 29201:2012\nUtilizzo di fogli di calcolo elettronici per il calcolo dell’incertezza di misura\nValutazione dei dati sperimentali mediante test statistici\nAssicurazione qualità del dato analitico\n\n  \nIl corso si svolgerà in FAD (Formazione A Distanza) tramite la piattaforma GoToMeeting. \nE’ richiesta la disponibilità di un computer con telecamera\, che deve essere mantenuta accesa durante tutta la durata del corso\, microfono e una connessione dati stabile. \nAll’atto della conferma di iscrizione verranno forniti i dettagli per raggiungere la piattaforma del corso. \nLe diapositive verranno inviate in formato PDF. Non è consentita la registrazione audio e video del corso. \n  \nIl corso si svolgerà in 2 pomeriggi il 23 Febbraio e l’1 Marzo\n\nLa sessione avrà inizio alle ore 14\,30 fino alle 18\,30 con una pausa di 20 minuti dove ognuno potrà prepararsi un buon caffè. \n  \nRelatrice: Dr.ssa Anna Moschin \n  \nCorso: MICRO 2\n \nCliccare per scaricare la scheda di iscrizione
URL:https://www.ultrasci.it/corso/corso-di-formazione-calcolo-incertezza-delle-prove-microbiologiche-2024/
CATEGORIES:Microbiologia
ATTACH;FMTTYPE=image/png:https://www.ultrasci.it/wp-content/uploads/2024/01/Corso-27-02-2024-PAG.png
END:VEVENT
END:VCALENDAR