BEGIN:VCALENDAR
VERSION:2.0
PRODID:-//Ultra Scientific Italia - ECPv6.10.3//NONSGML v1.0//EN
CALSCALE:GREGORIAN
METHOD:PUBLISH
X-ORIGINAL-URL:https://www.ultrasci.it
X-WR-CALDESC:Eventi per Ultra Scientific Italia
REFRESH-INTERVAL;VALUE=DURATION:PT1H
X-Robots-Tag:noindex
X-PUBLISHED-TTL:PT1H
BEGIN:VTIMEZONE
TZID:Europe/Rome
BEGIN:DAYLIGHT
TZOFFSETFROM:+0100
TZOFFSETTO:+0200
TZNAME:CEST
DTSTART:20240331T010000
END:DAYLIGHT
BEGIN:STANDARD
TZOFFSETFROM:+0200
TZOFFSETTO:+0100
TZNAME:CET
DTSTART:20241027T010000
END:STANDARD
END:VTIMEZONE
BEGIN:VEVENT
DTSTART;TZID=Europe/Rome:20240405T143000
DTEND;TZID=Europe/Rome:20240405T183000
DTSTAMP:20260419T232644
CREATED:20240129T144250Z
LAST-MODIFIED:20240130T094942Z
UID:10173-1712327400-1712341800@www.ultrasci.it
SUMMARY:Corso di Formazione - Requisiti e proposte applicative della norma ISO 13843:2017. Caratterizzazione e verifica dei metodi di prova microbiologici quantitativi applicabili alla matrice acqua
DESCRIPTION:Presentazione:\nIl corso ha lo scopo di illustrare le proposte della nuova ISO 13843:2017 per la validazione di metodi di prova microbiologici quantitativi e per la verifica di metodi di prova normalizzati o comunque già validati.\nIl corso propone fogli di calcolo\, esempi numerici e per la gestione delle attività da pianificare ed eseguire per la caratterizzazione di un nuovo metodo o per la verifica di un metodo di prova validato. \nProgramma:\nGli argomenti che verranno trattati nel corso di formazione saranno i seguenti: \n\nPresentazione del corso e dei concetti di base\nCaratterizzazione e verifica dei metodi di prova\nIndividuazione delle caratteristiche prestazionali di un metodo di prova e loro determinazione\nVerifica dei metodi di prova con individuazione delle attività che il laboratorio deve eseguire per dimostrare la compatibilità delle proprie prestazioni con quelle del metodo\nElaborazione in opportuni fogli di calcolo degli esempi numerici proposti dalla norma ISO 13843\n\n  \nIl corso si svolgerà in FAD (Formazione A Distanza) tramite la piattaforma GoToMeeting. \nE’ richiesta la disponibilità di un computer con telecamera\, che deve essere mantenuta accesa durante tutta la durata del corso\, microfono e una connessione dati stabile. \nAll’atto della conferma di iscrizione verranno forniti i dettagli per raggiungere la piattaforma del corso. \nLe diapositive verranno inviate in formato PDF. Non è consentita la registrazione audio e video del corso. \n  \nLa sessione avrà inizio alle ore 14\,30 fino alle 18\,30 con una pausa di 20 minuti dove ognuno potrà prepararsi un buon caffè. \n  \nRelatrice: Dr.ssa Anna Moschin \n  \nCorso: MICRO 4\nCliccare per scaricare la scheda di iscrizione
URL:https://www.ultrasci.it/corso/corso-di-formazione-requisiti-e-proposte-applicative-della-norma-iso-138432017-2024/
CATEGORIES:Microbiologia,Qualità del Dato
ATTACH;FMTTYPE=image/png:https://www.ultrasci.it/wp-content/uploads/2024/01/Corso-05-04-2024-PAG.png
END:VEVENT
BEGIN:VEVENT
DTSTART;TZID=Europe/Rome:20240410T143000
DTEND;TZID=Europe/Rome:20240410T183000
DTSTAMP:20260419T232644
CREATED:20240129T144747Z
LAST-MODIFIED:20240129T144747Z
UID:10176-1712759400-1712773800@www.ultrasci.it
SUMMARY:Corso di Formazione - Campionamento di rifiuti - Norma UNI 10802 e sua corretta applicazione - NUOVA EDIZIONE
DESCRIPTION:Presentazione:\nLa norma UNI 10802 rappresenta il riferimento tecnico italiano per il campionamento dei rifiuti.\nIl corso è diretto a tutte le figure professionali coinvolte a vario titolo nelle attività di caratterizzazione dei rifiuti.\nNel caso degli addetti al campionamento\, in particolare\, la partecipazione al corso può costituire un elemento importante del processo di qualifica e\, insieme a un adeguato addestramento sul campo\, un’evidenza oggettiva di competenza tecnica. \nProgramma:\n\nLe novità rispetto alla revisione del 2013\nI principali riferimenti tecnici della norma (EN 14899 e CEN/TR 15310)\nAspetti normativi rilevanti\nPianificazione del campionamento\nSelezione dell’approccio di campionamento\nDescrizione delle tecniche di campionamento\nMetodi di riduzione dimensionale dei campioni\nLa gestione dei campioni di laboratorio\nIl verbale di campionamento\nEsempi di applicazione della norma per alcune tipologie di rifiuti\n\n  \nIl corso si svolgerà in FAD (Formazione A Distanza) tramite la piattaforma GoToMeeting. \nE’ richiesta la disponibilità di un computer con telecamera\, che deve essere mantenuta accesa durante tutta la durata del corso\, microfono e una connessione dati stabile. \nAll’atto della conferma di iscrizione verranno forniti i dettagli per raggiungere la piattaforma del corso. \nLe diapositive verranno inviate in formato PDF. Non è consentita la registrazione audio e video del corso. \n  \nIl corso si svolgerà in 2 pomeriggi il 10 e 11 Aprile\n\nLe sessioni avranno inizio alle ore 14\,30 fino alle 18\,30 con una pausa di 20 minuti dove ognuno potrà prepararsi un buon caffè. \n  \nRelatore: Dr. Fulvio Borrino \n  \nCorso: RIF 5\n \nCliccare per scaricare la scheda di iscrizione
URL:https://www.ultrasci.it/corso/corso-di-formazione-campionamento-di-rifiuti-norma-uni-10802-2024/
CATEGORIES:Rifiuti
ATTACH;FMTTYPE=image/png:https://www.ultrasci.it/wp-content/uploads/2024/01/Corso-10-11-04-2024-PAG.png
END:VEVENT
BEGIN:VEVENT
DTSTART;TZID=Europe/Rome:20240424T093000
DTEND;TZID=Europe/Rome:20240424T133000
DTSTAMP:20260419T232644
CREATED:20240129T145021Z
LAST-MODIFIED:20240129T145021Z
UID:10179-1713951000-1713965400@www.ultrasci.it
SUMMARY:Corso di Formazione - La determinazione degli Idrocarburi totali nelle matrici ambientali
DESCRIPTION:Presentazione:\nDurante il corso verranno analizzati diversi metodi per la determinazione degli idrocarburi in matrici ambientali. \nNello specifico verranno trattati i metodi: \n\nEPA 8015\nUNI EN 14039\nISO 16703\nISO 9377-2\n\nProgramma:\n\nLa gestione del GC-FID e la sua conferma metrologica\nIl problema della definizione del parametro “idrocarburi”: linee guida e metodi ISPRA\nMetodo EPA 8015: contenuti e collegamenti con l’impianto dei metodi presenti nell’SW 846\nMetodo ISO 16703:2004: determinazione degli Idrocarburi (C10-C40) nel suolo\nMetodo UNI EN 14039:2005: determinazione degli Idrocarburi (C10-C40) nei rifiuti\nMetodo UNI EN ISO 9377-2 2002: determinazione degli idrocarburi(C10-C40) nelle acque\n\n  \nIl corso si svolgerà in FAD (Formazione A Distanza) tramite la piattaforma GoToMeeting. \nE’ richiesta la disponibilità di un computer con telecamera\, che deve essere mantenuta accesa durante tutta la durata del corso\, microfono e una connessione dati stabile. \nAll’atto della conferma di iscrizione verranno forniti i dettagli per raggiungere la piattaforma del corso. \nLe diapositive verranno inviate in formato PDF. Non è consentita la registrazione audio e video del corso. \n  \nLa sessione avrà inizio alle ore 9\,30 fino alle 13\,30 con una pausa di 20 minuti dove ognuno potrà prepararsi un buon caffè. \n  \nRelatrice: Dr. Giuseppe Orlando \n  \nCorso: IDROC\n \nCliccare per scaricare la scheda di iscrizione
URL:https://www.ultrasci.it/corso/corso-di-formazione-determinazione-degli-idrocarburi-totali-nelle-matrici-ambientali-2024/
CATEGORIES:Metodi Analitici
ATTACH;FMTTYPE=image/png:https://www.ultrasci.it/wp-content/uploads/2024/01/Corso-24-04-2024-PAG.png
END:VEVENT
END:VCALENDAR