BEGIN:VCALENDAR
VERSION:2.0
PRODID:-//Ultra Scientific Italia - ECPv6.10.3//NONSGML v1.0//EN
CALSCALE:GREGORIAN
METHOD:PUBLISH
X-WR-CALNAME:Ultra Scientific Italia
X-ORIGINAL-URL:https://www.ultrasci.it
X-WR-CALDESC:Eventi per Ultra Scientific Italia
REFRESH-INTERVAL;VALUE=DURATION:PT1H
X-Robots-Tag:noindex
X-PUBLISHED-TTL:PT1H
BEGIN:VTIMEZONE
TZID:Europe/Rome
BEGIN:DAYLIGHT
TZOFFSETFROM:+0100
TZOFFSETTO:+0200
TZNAME:CEST
DTSTART:20240331T010000
END:DAYLIGHT
BEGIN:STANDARD
TZOFFSETFROM:+0200
TZOFFSETTO:+0100
TZNAME:CET
DTSTART:20241027T010000
END:STANDARD
END:VTIMEZONE
BEGIN:VEVENT
DTSTART;TZID=Europe/Rome:20240513T093000
DTEND;TZID=Europe/Rome:20240513T123000
DTSTAMP:20260419T215521
CREATED:20240129T145210Z
LAST-MODIFIED:20240129T145210Z
UID:10182-1715592600-1715603400@www.ultrasci.it
SUMMARY:Corso di Formazione - Il laboratorio rifiuti e i problemi relativi alla matrice rifiuto
DESCRIPTION:Presentazione:\nIl corso ha lo scopo di fornire indicazioni in merito alla gestione della matrice rifiuto. \nVerranno trattate le principali norme relative ai rifiuti solidi e alla preparazione dei campioni. \nIn relazione alla preparazione verranno effettuati esempi reali sulla riduzione del campione che poi verrà analizzato in laboratorio (rifiuti solidi e terreni). \nInoltre si valuterà l’impatto della corretta preparazione del campione sulla bontà del dato analitico. \nProgramma:\n\nPresentazione del corso\nRiferimenti normativi in tema di rifiuti solidi e relative indicazioni sulla preparazione del campione\nMetodi per la preparazione e riduzione del campione\nImpatto della preparazione del campione sulla qualità del dato analitico\nEsempi reali di preparazione del campione solido di rifiuto e terreno\nTest finale di apprendimento\n\n  \nIl corso si svolgerà in FAD (Formazione A Distanza) tramite la piattaforma GoToMeeting. \nE’ richiesta la disponibilità di un computer con telecamera\, che deve essere mantenuta accesa durante tutta la durata del corso\, microfono e una connessione dati stabile. \nAll’atto della conferma di iscrizione verranno forniti i dettagli per raggiungere la piattaforma del corso. \nLe diapositive verranno inviate in formato PDF. Non è consentita la registrazione audio e video del corso. \n  \nIl corso si svolgerà in 2 mattine il 13 e 14 Maggio\n\nLe sessioni avranno inizio alle ore 9\,30 fino alle 12\,30 con una pausa di 20 minuti dove ognuno potrà prepararsi un buon caffè. \n  \nRelatore: Dr. Luca Muccinelli \n  \nCorso: RIF 4\n \nCliccare per scaricare la scheda di iscrizione
URL:https://www.ultrasci.it/corso/corso-di-formazione-il-laboratorio-rifiuti-e-i-problemi-relativi-alla-matrice-2024/
CATEGORIES:Rifiuti
ATTACH;FMTTYPE=image/png:https://www.ultrasci.it/wp-content/uploads/2024/01/Corso-13-14-05-2024-PAG.png
END:VEVENT
BEGIN:VEVENT
DTSTART;TZID=Europe/Rome:20240524T093000
DTEND;TZID=Europe/Rome:20240524T133000
DTSTAMP:20260419T215521
CREATED:20230301T143652Z
LAST-MODIFIED:20240129T145437Z
UID:9826-1716543000-1716557400@www.ultrasci.it
SUMMARY:Corso di Formazione - Incertezza di Misura: approcci alternativi al calcolo dell'incertezza e confronto tra la ISO 11352:2012 e il metodo metrologico
DESCRIPTION:Presentazione:\nVerranno trattati approcci alternativi al calcolo dell’incertezza di misura e si farà un confronto tra la ISO 11352:2012 e l’approccio metrologico. \nI metodi tradizionali per stimare l’Incertezza di Misura\, mediante approccio “bottom-up”\, mirano a stimare il contributo individuale di ogni fase del processo all’incertezza complessiva.\nQuesto approccio può essere dispendioso in termini di tempo da applicare alle prove di laboratorio e tuttavia consente all’analista di identificare le fasi critiche di un metodo ed è utile per la sua ottimizzazione. Alcune fonti di errore\, però\, non sono sempre stimabili. \nL’approccio “top-down” stima direttamente l’incertezza di misura valutando i dati del controllo di qualità (QC) o i dati degli esperimenti di verifica del metodo. Tale approccio è più pratico e conveniente e può essere aggiornato man mano che si rendono disponibili ulteriori dati attraverso i risultati del controllo di qualità interno di routine e dei proficiency test. \nSi sottolinea che non si riscontrano differenze statisticamente significative tra i valori di incertezza ottenuti con entrambi gli approcci\, se correttamente applicati. \nProgramma:\nIncertezza di misura: \n\nApproccio bottom-up (metodo metrologico)\nApproccio top-down (ISO 11352 e linee guida collegate)\nEsempio di calcolo parallelo con entrambi gli approcci\n\n  \nIl corso si svolgerà in FAD (Formazione A Distanza) tramite la piattaforma GoToMeeting. \nE’ richiesta la disponibilità di un computer con telecamera\, che deve essere mantenuta accesa durante tutta la durata del corso\, microfono e una connessione dati stabile. \nAll’atto della conferma di iscrizione verranno forniti i dettagli per raggiungere la piattaforma del corso. \nLe diapositive verranno inviate in formato PDF. Non è consentita la registrazione audio e video del corso. \nIl corso avrà inizio alle ore 9\,30 fino alle 13\,30 con una pausa di 20 minuti dove ognuno potrà prepararsi un buon caffè. \n  \nRelatore: Dr. Giuseppe Orlando \n  \nCorso: STAT 5\n \nCliccare per scaricare la scheda di iscrizione
URL:https://www.ultrasci.it/corso/corso-di-formazione-approcci-alternativi-al-calcolo-dell-incertezza-di-misura-2024/
CATEGORIES:Qualità del Dato,Statistica
ATTACH;FMTTYPE=image/png:https://www.ultrasci.it/wp-content/uploads/2024/01/Corso-24-05-2024-PAG.png
END:VEVENT
BEGIN:VEVENT
DTSTART;TZID=Europe/Rome:20240530T093000
DTEND;TZID=Europe/Rome:20240530T133000
DTSTAMP:20260419T215521
CREATED:20240129T150047Z
LAST-MODIFIED:20240129T150047Z
UID:10196-1717061400-1717075800@www.ultrasci.it
SUMMARY:Corso di Formazione - La gestione delle apparecchiature nei laboratori di prova ai sensi della norma UNI CEI EN ISO/IEC 17025:2018
DESCRIPTION:Presentazione:\nIl corso tratta\, con riferimento alla norma UNI CEI EN ISO/IEC 17025:2018\, le attività di gestione delle principali apparecchiature utilizzate nei laboratori per le prove chimiche e microbiologiche: conferma metrologica\, manutenzione\, taratura e controllo intermedio della taratura. \nL’obiettivo del corso è quello di fornire le istruzioni\, basate su linee guida o norme tecniche vigenti\, per la gestione delle apparecchiature costituite da: \n\nGiovedì 30 Maggio: misuratori di temperatura\, frigoriferi\, incubatori\, stufe.\nVenerdì 31 Maggio: bilance analitiche e tecniche e micropipette.\n\nÈ possibile partecipare anche solo ad una delle due giornate proposte. \nProgramma Giovedì 30 Maggio:\n\nRequisiti della norma UNI CEI EN ISO/IEC 17025:2018 per la gestione delle apparecchiature\nManutenzione ai sensi delle norme UNI EN 13306:2003 e UNI 10147:2003 per apparecchiature a temperatura controllata\nRequisiti per i processi e le apparecchiature di misurazione ai sensi della norma UNI EN ISO 10012:2004\nTaratura e controllo intermedio della taratura\nEsempi pratici di taratura di misuratori di temperatura\nCaratterizzazione di apparecchiature a temperatura controllata (incubatori\, stufe e frigoriferi)\n\n  \nIl corso si svolgerà in FAD (Formazione A Distanza) tramite la piattaforma GoToMeeting. \nE’ richiesta la disponibilità di un computer con telecamera\, che deve essere mantenuta accesa durante tutta la durata del corso\, microfono e una connessione dati stabile. \nAll’atto della conferma di iscrizione verranno forniti i dettagli per raggiungere la piattaforma del corso. \nLe diapositive verranno inviate in formato PDF. Non è consentita la registrazione audio e video del corso. \nIl corso avrà inizio alle ore 9\,30 fino alle 13\,30 con una pausa di 20 minuti dove ognuno potrà prepararsi un buon caffè. \n  \nRelatrice: Dr.ssa Maria Letizia Davì \n  \n  \n  \nCorso: TAR 1\n \nCliccare per scaricare la scheda di iscrizione
URL:https://www.ultrasci.it/corso/corso-di-formazione-la-gestione-delle-apparecchiature-nei-laboratori-di-prova-2024-parte-1/
CATEGORIES:Qualità del Dato
ATTACH;FMTTYPE=image/png:https://www.ultrasci.it/wp-content/uploads/2024/01/Corso-30-31-05-2024-PAG.png
END:VEVENT
BEGIN:VEVENT
DTSTART;TZID=Europe/Rome:20240531T093000
DTEND;TZID=Europe/Rome:20240531T133000
DTSTAMP:20260419T215521
CREATED:20240129T150244Z
LAST-MODIFIED:20240129T150244Z
UID:10199-1717147800-1717162200@www.ultrasci.it
SUMMARY:Corso di Formazione - La gestione delle apparecchiature nei laboratori di prova ai sensi della norma UNI CEI EN ISO/IEC 17025:2018
DESCRIPTION:Presentazione:\nIl corso tratta\, con riferimento alla norma UNI CEI EN ISO/IEC 17025:2018\, le attività di gestione delle principali apparecchiature utilizzate nei laboratori per le prove chimiche e microbiologiche: conferma metrologica\, manutenzione\, taratura e controllo intermedio della taratura. \nL’obiettivo del corso è quello di fornire le istruzioni\, basate su linee guida o norme tecniche vigenti\, per la gestione delle apparecchiature costituite da: \n\nGiovedì 30 Maggio: misuratori di temperatura\, frigoriferi\, incubatori\, stufe.\nVenerdì 31 Maggio: bilance analitiche e tecniche e micropipette.\n\nÈ possibile partecipare anche solo ad una delle due giornate proposte. \nProgramma Venerdì 31 Maggio:\n\nRequisiti della norma UNI CEI EN ISO/IEC 17025:2018 per la gestione delle apparecchiature\nManutenzione ai sensi delle norme UNI EN 13306:2003 e UNI 10147:2003 per bilance e micropipette\nRequisiti per i processi e le apparecchiature di misurazione ai sensi della norma UNI EN ISO 10012:2004\nTaratura e controllo intermedio della taratura\nEsempi pratici di taratura di bilance e micropipette\n\n  \nIl corso si svolgerà in FAD (Formazione A Distanza) tramite la piattaforma GoToMeeting. \nE’ richiesta la disponibilità di un computer con telecamera\, che deve essere mantenuta accesa durante tutta la durata del corso\, microfono e una connessione dati stabile. \nAll’atto della conferma di iscrizione verranno forniti i dettagli per raggiungere la piattaforma del corso. \nLe diapositive verranno inviate in formato PDF. Non è consentita la registrazione audio e video del corso. \nIl corso avrà inizio alle ore 9\,30 fino alle 13\,30 con una pausa di 20 minuti dove ognuno potrà prepararsi un buon caffè. \n  \nRelatrice: Dr.ssa Maria Letizia Davì \n  \n  \n  \nCorso: TAR 1 bis\n \nCliccare per scaricare la scheda di iscrizione
URL:https://www.ultrasci.it/corso/corso-di-formazione-la-gestione-delle-apparecchiature-nei-laboratori-di-prova-2024-parte-2/
CATEGORIES:Qualità del Dato
ATTACH;FMTTYPE=image/png:https://www.ultrasci.it/wp-content/uploads/2024/01/Corso-30-31-05-2024-PAG.png
END:VEVENT
END:VCALENDAR