BEGIN:VCALENDAR
VERSION:2.0
PRODID:-//Ultra Scientific Italia - ECPv6.10.3//NONSGML v1.0//EN
CALSCALE:GREGORIAN
METHOD:PUBLISH
X-ORIGINAL-URL:https://www.ultrasci.it
X-WR-CALDESC:Eventi per Ultra Scientific Italia
REFRESH-INTERVAL;VALUE=DURATION:PT1H
X-Robots-Tag:noindex
X-PUBLISHED-TTL:PT1H
BEGIN:VTIMEZONE
TZID:Europe/Rome
BEGIN:DAYLIGHT
TZOFFSETFROM:+0100
TZOFFSETTO:+0200
TZNAME:CEST
DTSTART:20250330T010000
END:DAYLIGHT
BEGIN:STANDARD
TZOFFSETFROM:+0200
TZOFFSETTO:+0100
TZNAME:CET
DTSTART:20251026T010000
END:STANDARD
END:VTIMEZONE
BEGIN:VEVENT
DTSTART;TZID=Europe/Rome:20250117T143000
DTEND;TZID=Europe/Rome:20250117T183000
DTSTAMP:20260419T151456
CREATED:20241210T135852Z
LAST-MODIFIED:20241210T135852Z
UID:11661-1737124200-1737138600@www.ultrasci.it
SUMMARY:Corso di Formazione - La nuova norma ISO 7218:2024 per i laboratori di microbiologia
DESCRIPTION:Presentazione:\nIl corso ha lo scopo di presentare i requisiti e le novità introdotte dalla nuova norma ISO 7218:2024 per i laboratorio di microbiologia. \nProgramma:\nDurante il corso verranno presentati i requisiti relativi a: \n\ni luoghi di lavoro\nil personale\nle procedure di decontaminazione del materiale e della vetreria\nla preparazione dei terreni e dei reagenti\n\nVerranno illustrate le novità introdotte dalla ISO 7218:2024 relativamente alle dotazioni e\, nello specifico\, valutati i requisiti delle apparecchiature da utilizzare per l’esecuzione delle prove (p.e. incubatori\, misuratori di temperatura\, etc.). \nSi valuteranno le modalità di allestimento delle prove microbiologiche con le diverse tecniche di analisi e l’espressione del risultato corredato dai relativi limiti fiduciali. \nUna sezione del corso riguarderà il controllo qualità nei laboratori microbiologici e la verifica e validazione dei metodi di prova \n  \nIl corso si svolgerà in FAD (Formazione A Distanza) tramite la piattaforma GoToMeeting. \nE’ richiesta la disponibilità di un computer con telecamera\, che deve essere mantenuta accesa durante tutta la durata del corso\, microfono e una connessione dati stabile. \nAll’atto della conferma di iscrizione verranno forniti i dettagli per raggiungere la piattaforma del corso. \nLe diapositive verranno inviate in formato PDF. Non è consentita la registrazione audio e video del corso. \n  \nLa sessione avrà inizio alle ore 14\,30 fino alle 18\,30 con una pausa di 20 minuti dove ognuno potrà prepararsi un buon caffè. \n  \nRelatrice: Dr.ssa Anna Moschin \n  \nCorso: MICRO 9\n \nCliccare per scaricare la scheda di iscrizione
URL:https://www.ultrasci.it/corso/corso-di-formazione-la-nuova-norma-iso-72182024-per-i-laboratori-di-microbiologia-2025/
CATEGORIES:Microbiologia
ATTACH;FMTTYPE=image/png:https://www.ultrasci.it/wp-content/uploads/2024/12/Corso-17-01-2025-PAG.png
END:VEVENT
BEGIN:VEVENT
DTSTART;TZID=Europe/Rome:20250128T143000
DTEND;TZID=Europe/Rome:20250128T183000
DTSTAMP:20260419T151456
CREATED:20241210T140204Z
LAST-MODIFIED:20241210T140204Z
UID:11664-1738074600-1738089000@www.ultrasci.it
SUMMARY:Corso di Formazione - Emissioni in atmosfera: corso base per l’esecuzione delle misurazioni periodiche
DESCRIPTION:Presentazione:\nIl corso è diretto ai tecnici coinvolti nelle attività di controllo periodico dei flussi gassosi convogliati (emissioni in atmosfera). \nÈ inteso principalmente quale corso introduttivo per il personale operativo\, ma tratta argomenti d’interesse per le figure coinvolte nelle fasi di pianificazione delle attività e di presentazione dei risultati. \nProgramma:\n28 Gennaio – 1° Giornata: \nbreve inquadramento normativo e finalità delle misurazioni periodiche; \ncaratterizzazione delle emissioni (Manuale Unichim 158); \nvalutazione della sezione di campionamento (EN 15259); \nimportanza del campionamento isocinetico; \ncriteri per la verifica di conformità; \nla normalizzazione dei risultati. \n29 Gennaio – 2°Giornata: \nprincipali metodi di riferimento pubblicati dal CEN e la selezione di metodi alternativi; \ni princìpi delle tecniche strumentali di riferimento (velocità\, ossigeno\, COV\, ossidi di combustione); \nla redazione dei rapporti di prova; \nalcune considerazioni sull’incertezza di misura. \n  \nIl corso si svolgerà in FAD (Formazione A Distanza) tramite la piattaforma GoToMeeting. \nE’ richiesta la disponibilità di un computer con telecamera\, che deve essere mantenuta accesa durante tutta la durata del corso\, microfono e una connessione dati stabile. \nAll’atto della conferma di iscrizione verranno forniti i dettagli per raggiungere la piattaforma del corso. \nLe diapositive verranno inviate in formato PDF. Non è consentita la registrazione audio e video del corso. \n  \nIl corso si svolgerà in 2 pomeriggi il 28 e il 29 Gennaio\n\nLe sessioni avranno inizio alle ore 14\,30 fino alle 18\,30 con una pausa di 20 minuti dove ognuno potrà prepararsi un buon caffè. \n  \nRelatore: Dr. Fulvio Borrino \n  \nCorso: EMI\n \nCliccare per scaricare la scheda di iscrizione
URL:https://www.ultrasci.it/corso/corso-di-formazione-emissioni-in-atmosfera-corso-base-per-l-esecuzione-delle-misurazioni-periodiche-2025/
CATEGORIES:Emissioni e Ambienti di Lavoro
ATTACH;FMTTYPE=image/png:https://www.ultrasci.it/wp-content/uploads/2024/12/Corso-28-29-01-2025-PAG.png
END:VEVENT
END:VCALENDAR